BEGIN:VCALENDAR
VERSION:2.0
PRODID:-//あいわサロン - ECPv6.15.13//NONSGML v1.0//EN
CALSCALE:GREGORIAN
METHOD:PUBLISH
X-ORIGINAL-URL:https://aiwasalon.jp
X-WR-CALDESC:あいわサロン のイベント
REFRESH-INTERVAL;VALUE=DURATION:PT1H
X-Robots-Tag:noindex
X-PUBLISHED-TTL:PT1H
BEGIN:VTIMEZONE
TZID:Asia/Tokyo
BEGIN:STANDARD
TZOFFSETFROM:+0900
TZOFFSETTO:+0900
TZNAME:JST
DTSTART:20240101T000000
END:STANDARD
END:VTIMEZONE
BEGIN:VEVENT
DTSTART;TZID=Asia/Tokyo:20251004T120000
DTEND;TZID=Asia/Tokyo:20251004T170000
DTSTAMP:20260424T185346
CREATED:20250823T014710Z
LAST-MODIFIED:20250927T083321Z
UID:2089-1759579200-1759597200@aiwasalon.jp
SUMMARY:あいわ食堂の日♪＆サロン体験DAY
DESCRIPTION:あいわ食堂の日♪【要予約】\n\nあいわサロンスタッフによる\n旬のお野菜を使った、美味しいごはんをぜひ食べに来てください☆ \nそして\nあいわサロンをお得に体験できる☆彡\n《スペシャルDAY✨》 \n日時：10月4日(土) \n【ランチ会】12:00〜 \n場所:あいわサロン\n（所沢市下富945-3） \n料金：【ランチ会】1500円　小学生500円 \n【当日ご参加の方にお得な特典‼️】\n●サロンメニューが特別価格に！！\n脊椎セラピー　【セラゼム60分】　1\,500円※30分の場合　1\,000円\n足湯デトックス　【ゴッドクリーナー30分】　会員3\,500円　非会員4\,600円\nヒーリング30分　会員3\,000円　非会員4\,000円\nブレインパワートレーナー30分　会員2\,250円　非会員3\,550円 \nどうぞお気軽にご参加ください❣️\nぜひお越しをお待ちしております！ \n《お申込み・お問合せ先》\nあいわサロン\n電話：04-2942-3339\nサロン公式LINEアカウント:\nhttps://lin.ee/MfVajpL \n[mwform_formkey key=”2203″]
URL:https://aiwasalon.jp/event/251004/
LOCATION:入曽地域交流センター\, 狭山市大字南入曽428番地3\, 狭山市\, 埼玉県\, 350-1316\, Japan
CATEGORIES:その他イベント
ORGANIZER;CN="%E3%81%82%E3%81%84%E3%82%8F%E3%82%B5%E3%83%AD%E3%83%B3":MAILTO:aiwasalon33@gmail.com
END:VEVENT
BEGIN:VEVENT
DTSTART;TZID=Asia/Tokyo:20251007T110000
DTEND;TZID=Asia/Tokyo:20251007T180000
DTSTAMP:20260424T185346
CREATED:20250927T084829Z
LAST-MODIFIED:20251001T082234Z
UID:2207-1759834800-1759860000@aiwasalon.jp
SUMMARY:満月★デトックスデイ《みかりん🌙が来ます》
DESCRIPTION:10月7日(火)満月🌕デトックスデイ \n新月、満月を活用することで、より効果的にデトックスをしてもらうことが出来ます✌️\nその効果は通常の約3倍🤟と言われています‼️ \n★この日の特別ゲスト★ \n量子波動サロンTOKYO店長　みかりん🌙がデトックス診断をします！ \n \nお楽しみに～！ \n【デトックスデイでデトックスされる方の特典】 \n①当日、ニュースキャンのウイルスセラピー(10分)をプレゼントします🎁 \n②当日、中西功のヒーリングが半額料金で受けられます！🎁 \n（３０分　会員　4\,400円→2\,200円　一般5\,500円→2\,750円） \n③当日、回数券を特別価格で販売します※1回30分 \n５回券　18\,000円→17\,000円(1回3\,400円)\n10回券　35\,000円→33\,000円(1回3\,300円) \n④【ご予約の方限定】で\n内側からのデトックスを促す酵素玄米ランチやデザートセット（体に優しいデザート＆ドリンク）をご希望の方にはお出しします(各500円) \nゴッドクリーナーのご予約時間枠　11：00～ 12:00～　13:00～　14:00～　15：00～　16：00～ \n場所:あいわサロン\n（所沢市下富945-3） \n料金：足湯デトックス　【ゴッドクリーナー】\n30分　4\,000円　　60分　7\,500円 \n※ご希望の方は酵素玄米ランチ(500円)やデザートセット（500円）付 \n◎ほかのセラピーも併せて受けていただくのがおすすめです。\nセラゼムマスターV3\n60分　会員2\,200円　一般3\,300円など・・・ \nぜひこの機会お見逃しなく～！ \nお申し込みをお待ちしております！ \n《お申込み・お問合せ先》\nあいわサロン\n電話：04-2942-3339\nサロン公式LINEアカウント:\nhttps://lin.ee/MfVajpL \n[mwform_formkey key=”2228″]
URL:https://aiwasalon.jp/event/251007/
LOCATION:入曽地域交流センター\, 狭山市大字南入曽428番地3\, 狭山市\, 埼玉県\, 350-1316\, Japan
CATEGORIES:その他イベント
ORGANIZER;CN="%E3%81%82%E3%81%84%E3%82%8F%E3%82%B5%E3%83%AD%E3%83%B3":MAILTO:aiwasalon33@gmail.com
END:VEVENT
BEGIN:VEVENT
DTSTART;VALUE=DATE:20251008
DTEND;VALUE=DATE:20251009
DTSTAMP:20260424T185346
CREATED:20250618T081656Z
LAST-MODIFIED:20250731T092820Z
UID:1778-1759881600-1759967999@aiwasalon.jp
SUMMARY:第4回　愛和道講座【人との関係を愛で満たす方法】
DESCRIPTION:4月から、新たな講座がスタートしました。 \nその名も【愛和道講座】 \n創始者ケビンこと中西研二の教え・動画を使いながら、\n中西功が解説していく5回シリーズのオンラインの講座になります。\nJOYヒーリングを学んだ方も初めての方もケビンが愛和道で伝えたかった\n人生を楽しくする方法をお伝えします！ \n第四回　10/8(水)\n人との関係を愛で満たす方法 \n——————————————- \n《過去の回をお見逃しの方へ》見逃し配信がございます！ \n五回セットでお申し込みの方は過去の回は見逃し配信でご覧いただき、今回からリアル参加が可能です。 \n第一回　4/9(水)\n愛和道に込められた意味とは\n「今を生きることの大切さ」\n★見逃し配信のお申し込みはこちらから \n第二回　6/11(水)\n相手を癒す前に、自分自身の心と体を整える\n★見逃し配信のお申し込みはこちらから \n第三回　8/6(水)\n先祖解放はなぜ必要なのか？\nケビンによる先祖解放のワーク\n★見逃し配信のお申し込みはこちらから \n\n《次回以降の予定》 \n第五回　12/10(水)\nすべての存在と「愛」と「調和」でつながる\nこれまでの学びの総まとめ \n—————————————— \n各回　20：30～21：30予定 \n参加費：オンライン参加　会員3\,300円／非会員4\,400円\nZOOM配信※見逃し配信付 \n5回セット※1回目は見逃し配信となります。\n会員　　15\,000円\n非会員　20\,000円 \n★愛和道の会ご入会ご希望の方はこちら \n※見逃し配信について\nイベント終了から一週間をめどとしてメールで\n送らせていただく予定です（配信期間は２週間です） \n  \n中西功プロフィール \n1980年東京生まれ。父であるヒーリング界のレジェンド、中西研二が行うヒーリングで奇跡が起こるのを目の当たりにし、以降、22年に渡りヒーラーとしての修行を積み、人々を癒しへと導いてきた。父やインドの聖者からも「内側のバランスが取れている」「本物のスピリチュアリズムを体現している」と称されるほど、穏やかなバイブレーションは傍にいるだけで癒されると評判。愛和道®JOYヒーリングの神髄「大和ワンネス」を世界に広める活動をしている。 \n《お申込み・お問合せ先》\nあいわサロン\n電話：04-2942-3339\nサロン公式LINEアカウント:\nhttps://lin.ee/MfVajpL \n[mwform_formkey key=”2007″]
URL:https://aiwasalon.jp/event/251008/
CATEGORIES:ヒーリング
ATTACH;FMTTYPE=image/png:https://aiwasalon.jp/wp-content/uploads/2025/06/愛和道講座-4.png
ORGANIZER;CN="%E3%81%82%E3%81%84%E3%82%8F%E3%82%B5%E3%83%AD%E3%83%B3":MAILTO:aiwasalon33@gmail.com
END:VEVENT
BEGIN:VEVENT
DTSTART;VALUE=DATE:20251013
DTEND;VALUE=DATE:20251014
DTSTAMP:20260424T185346
CREATED:20250906T100346Z
LAST-MODIFIED:20250906T101435Z
UID:2124-1760313600-1760399999@aiwasalon.jp
SUMMARY:【東京】中西功　お話会&ヒーリング
DESCRIPTION:【東京】中西功　お話会&ヒーリング \n中西功の今伝えたい話＆瞑想＆ヒーリング \n\nなかにしいさお◎一般社団法人愛和道協会代表理事。1980年生まれ。愛和道®JOYヒーリングの創設者である亡き父、ケビンこと中西研二と共に18年間にわたり、国内外での各種セミナーを開催する。2020年からは、自らもセミナー講師として活動開始。4児の子育てしながら己育て中\n\n10月13日（月祝） \n時間：13:00～14:00　お話会\n14：15〜中西功によるヒーリング※ご予約順 \nお一人様約15分※当日は受けられない方にはヒーリング券をプレゼント！（一ヶ月間有効） \n★会場参加限定特典：株式会社いやしの村代表取締役　孫崎さんからプレゼントあり！ \n会場：量子波動サロン東京\n東京都品川区西五反田2-15-13　ニューハイツ西五反田1103 \n参加費：【会場参加（個別ヒーリング付）】愛和道の会会員3\,850円　一般5\,500円\n【ZOOM参加（一斉遠隔ヒーリング付・見逃し配信あり）】愛和道の会会員3\,000円　一般4\,000円 \n※非会員の方で、当日愛和道の会にご入会の場合は、参加費無料\n（愛和道の会　入会金&年会費→5\,000円1年間有効\n(カード払いで自動更新を選択の場合4\,500円)） \n★会場参加の方★中西功の個別ヒーリング付（当日受けられない方には、一ヶ月有効のヒーリング券をプレゼントさせていただきます）\nヒーリング券のご使用方法\n①後日ヒーリング券の利用（10～15分）五反田または所沢のサロンで\n②後日ヒーリング券を割引券としてご利用（30分のヒーリング料金　会員4\,400円　/非会員5\,500円の半額券としてご利用いただけます）五反田または所沢のサロンで \n★ZOOM参加（見逃し配信）の方★お話会の最後に一斉遠隔ヒーリングをさせていただきます \nあいわサロン公式LINEアカウントのご登録はこちらから \n※見逃し配信について\nイベント終了から一週間をめどとしてメールで\n送らせていただく予定です（配信期間は２週間です） \n《お申込み・お問合せ先》\nあいわサロン\n電話：04-2942-3339\nサロン公式LINEアカウント:\nhttps://lin.ee/MfVajpL \n[mwform_formkey key=”2127″]
URL:https://aiwasalon.jp/event/251013/
LOCATION:量子波動サロンTOKYO\, 西五反田2-15-13　ニューハイツ西五反田1103\, 品川区\, 東京都\, 141-0031\, 日本
CATEGORIES:ヒーリング
ATTACH;FMTTYPE=image/png:https://aiwasalon.jp/wp-content/uploads/2025/09/中西功お話会＆ヒーリングのコピー-251013軽.png
ORGANIZER;CN="%E3%81%82%E3%81%84%E3%82%8F%E3%82%B5%E3%83%AD%E3%83%B3":MAILTO:aiwasalon33@gmail.com
END:VEVENT
BEGIN:VEVENT
DTSTART;TZID=Asia/Tokyo:20251024T110000
DTEND;TZID=Asia/Tokyo:20251024T180000
DTSTAMP:20260424T185346
CREATED:20251001T093421Z
LAST-MODIFIED:20251001T093621Z
UID:2234-1761303600-1761328800@aiwasalon.jp
SUMMARY:新月★デトックスデイ
DESCRIPTION:10月24日(金)新月🌕デトックスデイ \n新月、満月を活用することで、より効果的にデトックスをしてもらうことが出来ます✌️\nその効果は通常の約3倍🤟と言われています‼️ \n【デトックスデイでデトックスされる方の特典】 \n①当日、ニュースキャンのウイルスセラピー(10分)をプレゼントします🎁 \n②当日、中西功のヒーリングが半額料金で受けられます！🎁 \n（３０分　会員　4\,400円→2\,200円　一般5\,500円→2\,750円） \n③当日、回数券を特別価格で販売します※1回30分 \n５回券　18\,000円→17\,000円(1回3\,400円)\n10回券　35\,000円→33\,000円(1回3\,300円) \n④【ご予約の方限定】で\n内側からのデトックスを促す酵素玄米ランチやカフェセット（体に優しいデザート＆ドリンク）をご希望の方にはお出しします(各500円) \nゴッドクリーナーのご予約時間枠　11：00～ 12:00～　13:00～　14:00～　15：00～　16：00～ \n場所:あいわサロン\n（所沢市下富945-3） \n料金：足湯デトックス　【ゴッドクリーナー】\n30分　4\,000円　　60分　7\,500円 \n※ご希望の方は酵素玄米ランチ(500円)やデザートセット（500円）付 \n◎ほかのセラピーも併せて受けていただくのがおすすめです。\nセラゼムマスターV3\n60分　会員2\,200円　一般3\,300円など・・・ \nぜひこの機会お見逃しなく～！ \nお申し込みをお待ちしております！ \n《お申込み・お問合せ先》\nあいわサロン\n電話：04-2942-3339\nサロン公式LINEアカウント:\nhttps://lin.ee/MfVajpL \n[mwform_formkey key=”2236″]
URL:https://aiwasalon.jp/event/251024/
CATEGORIES:その他イベント
ORGANIZER;CN="%E3%81%82%E3%81%84%E3%82%8F%E3%82%B5%E3%83%AD%E3%83%B3":MAILTO:aiwasalon33@gmail.com
END:VEVENT
BEGIN:VEVENT
DTSTART;TZID=Asia/Tokyo:20251025T140000
DTEND;TZID=Asia/Tokyo:20251025T160000
DTSTAMP:20260424T185346
CREATED:20251001T094143Z
LAST-MODIFIED:20251001T094426Z
UID:2238-1761400800-1761408000@aiwasalon.jp
SUMMARY:【埼玉】ヒーリング復習会（ヒーラー養成を未受講の方も大歓迎！）
DESCRIPTION:愛和道JOYヒーリングは、創始者である故中西研二が1993年に始めたヒーリングです。今日に至るまで、ヒーリングを受けた、たくさんの方々より奇跡の体験のお声をいただいています。 \n愛和道JOYヒーリングは「誰でもできる」すばらしいコミュニケーションツールです。ぜひ一緒に復習してみませんか。ヒーラー養成を受けたことがない方もご参加いただけます！ \n【ヒーリング復習会】\n10月25日（土）\n14：00～16：00　2\,000円 \n※ご希望の方には酵素玄米のおむすびランチ（５００円） \n参加資格:特になし（ヒーラー養成受講済みの方も、受けたことがない方も大歓迎！）\n講師：中西功 \n会場：あいわサロン\n〒359-0001 埼玉県所沢市下富９４５−３ \n[mwform_formkey key=”2240″]
URL:https://aiwasalon.jp/event/251025/
CATEGORIES:その他イベント,ヒーリング練習会
ORGANIZER;CN="%E3%81%82%E3%81%84%E3%82%8F%E3%82%B5%E3%83%AD%E3%83%B3":MAILTO:aiwasalon33@gmail.com
END:VEVENT
BEGIN:VEVENT
DTSTART;TZID=Asia/Tokyo:20251027T090000
DTEND;TZID=Asia/Tokyo:20251028T160000
DTSTAMP:20260424T185346
CREATED:20250627T032714Z
LAST-MODIFIED:20250928T050714Z
UID:1828-1761555600-1761667200@aiwasalon.jp
SUMMARY:天空の神域・三峯神社参拝　1泊2日リトリート
DESCRIPTION:天空の神域・三峯神社リトリート✨\n内なる天とつながる御神木を、あなたの魂に\n開催日｜2025年10月27日（月）〜28日（火）1泊2日 \n導かれし10名限定｜天空の聖域にて、魂の扉を開く旅へ \n◆ 天と地の交差点・三峯神社とは ◆\n埼玉・秩父の深山に抱かれるように鎮座する「三峯神社」。そこは、関東最大級のパワースポットにして、神々の息吹が今もなお宿る聖なる地。\nご縁ある者しか招かれないとさえ言われるこの神域は、訪れるだけで魂が清められ、人生に大きな転機をもたらすことがあると伝えられています。\nそんな神域の氣（エネルギー）と深くつながるため、今回は**1泊2日という”特別な時間”**をかけて、内なる神性と再会する旅をご用意いたしました。 \n🌿リトリートのテーマ\n「内なる神木を魂に植える」\nこの旅は、ただの観光でも参拝でもありません。あなたの内側に、天と地を結ぶ「御神木の光」を植えるための魂の儀式。\n三峯の御神気に満たされながら、これからの人生を導く「目標」や「願い」を、天に誓い、魂に根づかせるための神聖なプロセスを辿ります。 \n🌟リトリートの神聖な流れ\n🔷1日目\n* サロンにてディクシャ会　魂の扉を開く祈りと共に、来年以降のあなたの生き方、在り方、目標を明確にしていきます。\n* 三峯神社の宿坊にて夜のディクシャ　日が沈み、神域が静寂に包まれる時間。高次の存在とつながり、目標を天に捧げる「夜の祈り」を捧げます。 \n就寝前に参加者1人1人が、3人のギバーから特別な✨意図✨を込めたディクシャを受け取っていただきます。 \n🔷2日目\n* 早朝の正式参拝（宿坊宿泊者限定）　宿泊者だけが体験できる、特別な朝の神事。　まだ空気の冷たい神殿にて、神々にあなたの誓いを直接宣言します。\n* 奥宮登拝｜神とつながる魂の山登り　遥か山の彼方、雲海を見下ろす奥宮へ。　一歩一歩、願いを唱えながら進む道は、魂の覚醒を促す”儀式の道”。　奥宮にて祈れば、運気向上、仕事運、金運、良縁、夫婦円満などあらゆるご神徳があなたを祝福してくれるでしょう。 \n✨三峯神社のスピリチュアルな魅力\n🌲御神木（樹齢800年）　時を超え生き続ける神の樹に、そっと手をかざしエネルギーを受け取る。　直接触れずとも、あなたの魂に力が注がれます。\n🐺神の使い「大口真神（お犬様）」　魔除け・厄除け・縁結びの象徴。　狼のエネルギーは、あなたの内なる恐れを浄化し、生命力を呼び覚まします。\n⛩️三ツ鳥居と狛狼　他に類を見ない三峯神社独特の鳥居。　この形には「天地人の結び」とも言われる神秘の意味が秘められています。\n🌫️遥拝殿から望む雲海と秩父の街並み　時が止まったような空間から、天とつながるビジョンを受け取ってください。\n🐉干支の龍の敷石　あなたの魂と響き合う年のエネルギーが、石の中に現れています。\n💫氣の御守　御神木の欠片が宿る特別なお守り。　色は4種。中身が本体であり、それぞれに「勇気・やる気・元気」のエネルギーが宿ります。 \n🏡宿坊「興雲閣」のご神気と癒し\n* 三峯神社境内にある神聖な宿。\n* 「三峯神の湯」…弱アルカリ性の美肌の湯に身を委ね、魂と肉体の浄化を。\n* 朝の正式参拝は、宿泊者だけが許された特別な時空間。　神ともっとも深くつながる瞬間を体感してください。 \n🗓開催概要 \n🔹日時：2025年10月27日（月）9:00 新所沢駅集合　　～28日（火）16:00 西武秩父駅 解散\n🔹宿泊場所：三峯神社 宿坊「興雲閣」／2名1室\n🔹参加費：44\,400円（1泊4食付き）※愛和道の会会員1\,000円割引あり（愛和道の会ご入会希望の方はこちらから \n🔹募集人数：10名限定（最少催行人数6名未達の場合、中止あり）\n🔹申込締切：10月20日（月）18:00まで\n🔹送迎あり：サロンから三峯神社まで車で同行 \n🌅当日のスケジュール（予定）\n【10/27（月）】\n9:00｜新所沢駅集合・送迎\n9:30｜サロンにてディクシャ会（心と魂の調律）\n12:00｜ネパールカレーランチ（祈りを込めた食）\n13:00｜三峯神社へ出発（道の駅で休憩）\n16:30｜三峯神社到着・御神殿ご挨拶\n17:00｜宿坊チェックイン・自由時間\n18:00｜夕食\n20:00｜夜のディクシャ（1人ずつ3名より受け取り）\n22:00｜就寝 \n【10/28（火）】\n6:00｜早朝参拝（自由参加）松果体に光を注ぐ時間\n7:00｜正式参拝\n8:00｜朝食\n9:30｜奥宮登拝へ出発\n12:00｜下山後、秩父市内レストランにて昼食\n14:30｜西武秩父駅へ送迎・解散 \n🍃魂が呼ばれた方へ\nこの旅は、偶然ではなく必然。あなたの中の「目醒め」を望む魂が、天からの導きに気づくための時間です。\n三峯の山々が、御神木が、神々が、あなたが本来の自分へ還る瞬間を、静かに待っています。\nご縁のある方とお会いできることを、心より楽しみにしております。 \n・・魂のナビゲーター・・\nヒーラー歴30年\n奇跡の癒し人✨中西功 \n天地をつなぐ舞✨祈り人\nヒーラーみかりん🌙✨ \n時空を超えた波動調律師✨\nナースりこ✨ \n《お申込み・お問合せ先》\nあいわサロン\n電話：04-2942-3339\nサロン公式LINEアカウント:\nhttps://lin.ee/MfVajpL \n[mwform_formkey key=”2158″]
URL:https://aiwasalon.jp/event/2510278/
LOCATION:入曽地域交流センター\, 狭山市大字南入曽428番地3\, 狭山市\, 埼玉県\, 350-1316\, Japan
CATEGORIES:その他イベント
ATTACH;FMTTYPE=image/png:https://aiwasalon.jp/wp-content/uploads/2025/06/Design-3-2.png
ORGANIZER;CN="%E3%81%82%E3%81%84%E3%82%8F%E3%82%B5%E3%83%AD%E3%83%B3":MAILTO:aiwasalon33@gmail.com
END:VEVENT
END:VCALENDAR