BEGIN:VCALENDAR
VERSION:2.0
PRODID:-//あいわサロン - ECPv6.15.13//NONSGML v1.0//EN
CALSCALE:GREGORIAN
METHOD:PUBLISH
X-ORIGINAL-URL:https://aiwasalon.jp
X-WR-CALDESC:あいわサロン のイベント
REFRESH-INTERVAL;VALUE=DURATION:PT1H
X-Robots-Tag:noindex
X-PUBLISHED-TTL:PT1H
BEGIN:VTIMEZONE
TZID:Asia/Tokyo
BEGIN:STANDARD
TZOFFSETFROM:+0900
TZOFFSETTO:+0900
TZNAME:JST
DTSTART:20240101T000000
END:STANDARD
END:VTIMEZONE
BEGIN:VEVENT
DTSTART;TZID=Asia/Tokyo:20250607T110000
DTEND;TZID=Asia/Tokyo:20250607T170000
DTSTAMP:20260425T005821
CREATED:20250321T092307Z
LAST-MODIFIED:20250523T054558Z
UID:1344-1749294000-1749315600@aiwasalon.jp
SUMMARY:大地とつながるマルシェ
DESCRIPTION:大地とつながるマルシェ \nあいわサロンにご縁のある素敵な仲間が集まります！\n春夏秋冬に企画する予定で、今回は夏のマルシェ🌸🌱\n【大地とつながるマルシェ】\nという名前にしたのは、\n私たちが生きている地球🌏大地とのつながりを大切にした生き方が今大切だと感じているからです😊✌️当日は、あいわサロンとご縁のある皆さまと一緒に様々なブースを楽しんでいただける企画を考えています🌱\n夏のあいわサロンをたっぷりと味わってください♪\n参加費無料ですが、ネット予約有の方には素敵なプレゼントをご用意しています🎁\nぜひご参加お待ちしています！ \n日時：6月7日(土)\n11：00～17：00 \n場所:あいわサロン\n（所沢市下富945-3）\n★入場無料★\nご予約不要ですが、事前予約の方にはプレゼントあり！ \nどうぞお気軽にご参加ください！\nぜひお越しをお待ちしております！ \n●マルシェ主催＆あいわサロン店主\n中西功 \n \n◇ニュースキャン30分2\,000円\n身体の声を“見える化”するロシア開発の波動測定器\nご自身の気になる部位1カ所＋オーラ＋内側に溜まった感情を読み取って、波動調整します！ \n①11:00〜\n②12:00〜\n③13:00〜\n④14:00〜\n⑤15:00〜\n⑥16:00〜 \n以下、決定した出展ブースです（追加になりましたら随時更新させていただきます） \n●百年杉の伝道師 有限会社 加藤木材　代表　加藤政実さん 来訪予定！ \n \n加藤さんは「百年杉で人を幸せにする」というミッションを掲げ、リフォーム、フローリング材、ベッドの三本柱で事業を展開していらっしゃいます。\n睡眠、妊娠、子育てなどで困難を抱えるお客様たちが百年杉を暮らしに取り入れ、問題が解決されていく事例が少なくありません。幸せの種を蒔き続ける加藤さんからお話を伺います！ \n【加藤　政実さんによるお話会】\n時間：①11：30～　②14：00～\n各回同じ内容で、約60分です。\n参加費：無料 \nご参考：加藤さんのホームページhttps://woody-katoh.com/ \n●トモソダチCafe COZY \n　　　　　　　　　　　　　　　　　　　　　　　　　　 \n米粉パン350円\n小人クッキー400円\nサーターアンダギー200円\n手作りチョコ800円〜\nほか、お弁当、コーヒー、マグちゃんグッズなど予定 \n⭐トモソダチcafe COZYのお弁当⭐\n・ミネラル出汁使用\n・無農薬野菜\n・こだわりの調味料 \nお弁当は《ご希望の方は、事前のご予約が可能となりました！！》\n※ご予約分以外にも販売予定なので、お弁当予約は必須ではありませんが、前回は売り切れてしまったので、ご希望の方は、ご予約されることをお勧めします。 \n以下の4種類です \n①おむすび弁当500円（おむすび２個+香の物）\n※ビーガン対応ご希望の場合でも同料金 \n【日替わりおまかせ弁当】\n※ビーガン対応ご希望の場合、それぞれ＋200円の追加料金がかかります\n※お惣菜の数は目安で、季節の食材が入ると増えることもあります\n※お弁当の写真はイメージです \n②スタンダード800円（メイン1種（肉か魚）、惣菜２品、ミニサラダ、香の物) \n \n③プチ贅沢1000円（メイン1種（肉か魚）、惣菜５品、ミニサラダ、香の物） \n \n④おもてなし1200円（メイン2種（肉か魚）、惣菜５品、ミニサラダ、香の物） \n \n●マヤ暦⭐数秘鑑定＆Okami（龗）カードリーディング　byひろこ \n \n争わない意識。\n縄文スピリットを受け継ぎ青森に生まれ育つ。\nマヤ暦✨数秘✨龗カードを使い、愛に溢れた心地よい言霊をおろしていきます✨\nあなたの、今と未来に素敵な奇跡が訪れますように…\n使命✨ご自分の特性。家族、恋人、友人との相性。など…気になる事を遠慮なくお聞きください。 \nマヤ暦⭐数秘鑑定  30分 2\,200円 \n①11時〜11時30分②11時40分〜12時10分③12時20分〜12時50分④13時〜13時30分⑤13時40分〜14時10分⑥14時20分〜14時50分⑦15時〜15時30分 \nOkami（龗）カードリーディング✨15分　1\,000円　希望時間帯をお知らせください。 \n●ゴッドクリーナー　byみかりん🌙 \n \nSpecialデトックス \n『絶対デトックス時代❗️』\n今話題の血液のアンチエイジング❗️ゴッドクリーナーで重金属、添加物、小麦、お薬、カビ類などを体外へ排出。ネガティブな感情までサヨナラ〜\n天地を繋ぐような至福のデトックス。\n大満足🌸大感動間違いなし。 \n最後に何が出たか、しっかり鑑定いたしますね。\n楽しみにしてきてください。\n普段の半額以下。この価格はあいわマルシェだけ✨\n事前のご予約の方は３０分６０分が選べます。 \n30分 2\,200円　60分　4\,400円 \n●ご希望の方は、脳血流を良くする\n✨ブレインパワートレーナー✨とセットでのセラピーも可能です。 \n視力のアップを目指しましょう。（マルシェ特別価格　30分　500円） \n※ブレインパワートレーナー単独でも受けられます。 \n●JOYヒーリング  by内海誠二 \n \n自然治癒力爆上がり！\n脳から知るあなたの身体セッション！ \n脳にリンクしてあなたの身体の情報を読み取りエネルギーで調整します！ \n免疫力は？\nワクチンの影響は？\n背骨の状態は？\n内臓の状態は？ \nなどなどを脳に聞いて解った所を調整して、身体全体をリフレッシュしましょう！ \n特別価格\n20分 2\,000円　30分 3\,000円 \n●ネパール雑貨\n \nかわいい雑貨がいっぱい♪ \n●脊椎セラピー（セラゼムマスターV3） \n \n脊椎の中にある中枢神経系がすべてのその他の神経のつなぎ目になっており、脊椎を整えることで全身が整うことをサポートしていく機器です。 \nV3では、そんな脊椎に対し、自動で長さや屈曲度を測定し、最適なコンディショニング＆リラクゼーションを行います。また、体に良い遠赤外線を放射する天然の石ともいわれる翡翠を贅沢に使用。翡翠による温熱指圧を行います。 \n特別価格　30分　1\,000円 \n●金運波動水 \n古神道の数霊でマイナス波動を除去する数霊システムⅢを使った「お金を引き寄せる波動が、目覚める金運水」を作成します \n特別価格　500円(約20分) \n《お申込み・お問合せ先》\nあいわサロン\n電話：04-2942-3339\nサロン公式LINEアカウント:\nhttps://lin.ee/MfVajpL \n[mwform_formkey key=”1347″]
URL:https://aiwasalon.jp/event/250629/
LOCATION:入曽地域交流センター\, 狭山市大字南入曽428番地3\, 狭山市\, 埼玉県\, 350-1316\, Japan
CATEGORIES:その他イベント
ORGANIZER;CN="%E3%81%82%E3%81%84%E3%82%8F%E3%82%B5%E3%83%AD%E3%83%B3":MAILTO:aiwasalon33@gmail.com
END:VEVENT
BEGIN:VEVENT
DTSTART;VALUE=DATE:20250609
DTEND;VALUE=DATE:20250610
DTSTAMP:20260425T005821
CREATED:20250428T101320Z
LAST-MODIFIED:20250512T043943Z
UID:1534-1749427200-1749513599@aiwasalon.jp
SUMMARY:【東京】中西功　お話会&ヒーリング
DESCRIPTION:【東京】中西功　お話会&ヒーリング \n中西功の今伝えたい話＆瞑想＆ヒーリング \n\nなかにしいさお◎一般社団法人愛和道協会代表理事。1980年生まれ。愛和道®JOYヒーリングの創設者である亡き父、ケビンこと中西研二と共に18年間にわたり、国内外での各種セミナーを開催する。2020年からは、自らもセミナー講師として活動開始。4児の子育てしながら己育て中\n\n6月9日（月） \n時間：13:00～14:30　お話会\n14：45〜中西功によるヒーリング※ご予約順 \nお一人様約15分※当日は受けられない方にはヒーリング券をプレゼント！（一ヶ月間有効） \n★会場参加限定特典：株式会社いやしの村代表取締役　孫崎さんからプレゼントあり！ \n会場：量子波動サロン東京\n東京都品川区西五反田2-15-13　ニューハイツ西五反田1103 \n参加費：【会場参加（個別ヒーリング付）】愛和道の会会員3\,850円　一般5\,500円\n【ZOOM参加（一斉遠隔ヒーリング付・見逃し配信あり）】愛和道の会会員3\,000円　一般4\,000円 \n※非会員の方で、当日愛和道の会にご入会の場合は、参加費無料\n（愛和道の会　入会金&年会費→5\,000円1年間有効\n(カード払いで自動更新を選択の場合4\,500円)） \n★会場参加の方★中西功の個別ヒーリング付（当日受けられない方には、一ヶ月有効のヒーリング券をプレゼントさせていただきます）\nヒーリング券のご使用方法\n①後日ヒーリング券の利用（10～15分）五反田または所沢のサロンで\n②後日ヒーリング券を割引券としてご利用（30分のヒーリング料金　会員4\,400円　/非会員5\,500円の半額券としてご利用いただけます）五反田または所沢のサロンで \n★ZOOM参加（見逃し配信）の方★お話会の最後に一斉遠隔ヒーリングをさせていただきます \nあいわサロン公式LINEアカウントのご登録はこちらから \n※見逃し配信について\nイベント終了から一週間をめどとしてメールで\n送らせていただく予定です（配信期間は２週間です） \n《お申込み・お問合せ先》\nあいわサロン\n電話：04-2942-3339\nサロン公式LINEアカウント:\nhttps://lin.ee/MfVajpL \n[mwform_formkey key=”1594″]
URL:https://aiwasalon.jp/event/250609/
LOCATION:量子波動サロンTOKYO\, 西五反田2-15-13　ニューハイツ西五反田1103\, 品川区\, 東京都\, 141-0031\, 日本
CATEGORIES:ヒーリング
ATTACH;FMTTYPE=image/png:https://aiwasalon.jp/wp-content/uploads/2025/04/中西功お話会＆ヒーリングのコピー-Instagramの投稿のコピー-1.png
ORGANIZER;CN="%E3%81%82%E3%81%84%E3%82%8F%E3%82%B5%E3%83%AD%E3%83%B3":MAILTO:aiwasalon33@gmail.com
END:VEVENT
BEGIN:VEVENT
DTSTART;VALUE=DATE:20250611
DTEND;VALUE=DATE:20250612
DTSTAMP:20260425T005821
CREATED:20250411T090841Z
LAST-MODIFIED:20250531T114136Z
UID:1463-1749600000-1749686399@aiwasalon.jp
SUMMARY:第二回　愛和道講座【相手を癒す前に、自分自身の心と体を整える】
DESCRIPTION:4月から、新たな講座がスタートしました。 \nその名も【愛和道講座】 \n創始者ケビンこと中西研二の教え・動画を使いながら、\n中西功が解説していく5回シリーズのオンラインの講座になります。\nJOYヒーリングを学んだ方も初めての方もケビンが愛和道で伝えたかった\n人生を楽しくする方法をお伝えします！ \n第二回　6/11(水)\n相手を癒す前に、自分自身の心と体を整える \n——————————————– \n《前回をお見逃しの方へ》見逃し配信がございます！ \n※一回目を見逃し配信で、二回目以降リアルタイム参加も可能な \n五回セットもあります。 \n第一回　4/9(水)\n愛和道に込められた意味とは\n「今を生きることの大切さ」\n★見逃し配信のお申し込みはこちらから \n—————————————— \n《次回以降の予定》 \n第三回　8/6(水)\n先祖解放はなぜ必要なのか？\nケビンによる先祖解放のワーク \n第四回　10/8(水)\n人との関係を愛で満たす方法 \n第五回　12/10(水)\nすべての存在と「愛」と「調和」でつながる\nこれまでの学びの総まとめ \n—————————————— \n各回　20：30～21：30予定 \n参加費：オンライン参加　会員3\,300円／非会員4\,400円\nZOOM配信※見逃し配信付 \n5回セット※1回目は見逃し配信となります。\n会員　　15\,000円\n非会員　20\,000円 \n★愛和道の会ご入会ご希望の方はこちら \n※見逃し配信について\nイベント終了から一週間をめどとしてメールで\n送らせていただく予定です（配信期間は２週間です） \n  \n中西功プロフィール \n1980年東京生まれ。父であるヒーリング界のレジェンド、中西研二が行うヒーリングで奇跡が起こるのを目の当たりにし、以降、22年に渡りヒーラーとしての修行を積み、人々を癒しへと導いてきた。父やインドの聖者からも「内側のバランスが取れている」「本物のスピリチュアリズムを体現している」と称されるほど、穏やかなバイブレーションは傍にいるだけで癒されると評判。愛和道®JOYヒーリングの神髄「大和ワンネス」を世界に広める活動をしている。 \n  \n  \n《お申込み・お問合せ先》\nあいわサロン\n電話：04-2942-3339\nサロン公式LINEアカウント:\nhttps://lin.ee/MfVajpL \n[mwform_formkey key=”1465″]
URL:https://aiwasalon.jp/event/250611/
CATEGORIES:ヒーリング
ATTACH;FMTTYPE=image/png:https://aiwasalon.jp/wp-content/uploads/2025/04/愛和道講座-1.png
ORGANIZER;CN="%E3%81%82%E3%81%84%E3%82%8F%E3%82%B5%E3%83%AD%E3%83%B3":MAILTO:aiwasalon33@gmail.com
END:VEVENT
BEGIN:VEVENT
DTSTART;TZID=Asia/Tokyo:20250611T110000
DTEND;TZID=Asia/Tokyo:20250611T180000
DTSTAMP:20260425T005821
CREATED:20250601T102538Z
LAST-MODIFIED:20250601T104338Z
UID:1664-1749639600-1749664800@aiwasalon.jp
SUMMARY:満月★デトックスデイ
DESCRIPTION:6/11(水)満月🌕デトックスデイ \nこちらは、あいわサロンで行う新企画！\n新月、満月を活用することで、より効果的にデトックスをしてもらうことが出来ます✌️\nその効果は通常の約3倍🤟と言われています‼️\nこの日は、よりデトックス効果を高めていただくために、 \n【６月のデトックスデイでデトックスされる方の特典】 \n①当日、ニュースキャンのウイルスセラピー(10分)をプレゼントします🎁 \n②当日、中西功のヒーリングが半額料金で受けられます！🎁 \n（３０分　会員　4\,400円→2\,200円　一般5\,500円→2\,750円） \n③当日、回数券を特別価格で販売します※1回30分 \n５回券　18\,000円→17\,000円(1回3\,400円)\n10回券　35\,000円→33\,000円(1回3\,300円) \n④【ご予約の方限定】で\n内側からのデトックスを促す酵素玄米のおむすびランチをご希望の方(500円)にはお出しします🍱 \n日時：6月11日(水） \nゴッドクリーナーのご予約時間枠　11：00～ 12:00～　13:00～　14:00～　15：00～　16：00～ \n場所:あいわサロン\n（所沢市下富945-3） \n料金：足湯デトックス　【ゴッドクリーナー】\n30分　4\,000円　　60分　7\,500円 \n※ご希望の方は酵素玄米のおむすびランチ(500円) \n◎ほかのセラピーも併せて受けていただくのがおすすめです。\nセラゼムマスターV3\n60分　会員2\,200円　一般3\,300円など・・・ \nぜひこの機会お見逃しなく～！ \nお申し込みをお待ちしております！ \n《お申込み・お問合せ先》\nあいわサロン\n電話：04-2942-3339\nサロン公式LINEアカウント:\nhttps://lin.ee/MfVajpL \n[mwform_formkey key=”1669″]
URL:https://aiwasalon.jp/event/250611-2/
LOCATION:入曽地域交流センター\, 狭山市大字南入曽428番地3\, 狭山市\, 埼玉県\, 350-1316\, Japan
CATEGORIES:その他イベント
ORGANIZER;CN="%E3%81%82%E3%81%84%E3%82%8F%E3%82%B5%E3%83%AD%E3%83%B3":MAILTO:aiwasalon33@gmail.com
END:VEVENT
BEGIN:VEVENT
DTSTART;TZID=Asia/Tokyo:20250625T110000
DTEND;TZID=Asia/Tokyo:20250625T180000
DTSTAMP:20260425T005821
CREATED:20250601T103614Z
LAST-MODIFIED:20250601T104714Z
UID:1666-1750849200-1750874400@aiwasalon.jp
SUMMARY:新月★デトックスデイ≪デトックス診断士みかりん🌙が来ます≫
DESCRIPTION:6/25(水)満月🌕デトックスデイ \nこちらは、あいわサロンで行う新企画！\n新月、満月を活用することで、より効果的にデトックスをしてもらうことが出来ます✌️\nその効果は通常の約3倍🤟と言われています‼️ \n★この日の特別ゲスト★ \n量子波動サロンTOKYO店長　デトックス鑑定士のみかりん🌙がきます！ \n \nお楽しみに～！ \n【６月のデトックスデイでデトックスされる方の特典】 \n①当日、ニュースキャンのウイルスセラピー(10分)をプレゼントします🎁 \n②当日、中西功のヒーリングが半額料金で受けられます！🎁 \n（３０分　会員　4\,400円→2\,200円　一般5\,500円→2\,750円） \n③当日、回数券を特別価格で販売します※1回30分 \n５回券　18\,000円→17\,000円(1回3\,400円)\n10回券　35\,000円→33\,000円(1回3\,300円) \n④【ご予約の方限定】で\n内側からのデトックスを促す酵素玄米のおむすびランチをご希望の方(500円)にはお出しします🍱 \n★みかりんDAY限定★ご希望の方はデザートセット（体に優しいデザート＆ドリンク）500円も！ \n日時：6月25日(水） \nゴッドクリーナーのご予約時間枠　11：00～ 12:00～　13:00～　14:00～　15：00～　16：00～ \n場所:あいわサロン\n（所沢市下富945-3） \n料金：足湯デトックス　【ゴッドクリーナー】\n30分　4\,000円　　60分　7\,500円 \n※ご希望の方は酵素玄米のおむすびランチ(500円)やデザートセット（500円）付 \n◎ほかのセラピーも併せて受けていただくのがおすすめです。\nセラゼムマスターV3\n60分　会員2\,200円　一般3\,300円など・・・ \nぜひこの機会お見逃しなく～！ \nお申し込みをお待ちしております！ \n《お申込み・お問合せ先》\nあいわサロン\n電話：04-2942-3339\nサロン公式LINEアカウント:\nhttps://lin.ee/MfVajpL \n[mwform_formkey key=”1671″]
URL:https://aiwasalon.jp/event/250625/
LOCATION:入曽地域交流センター\, 狭山市大字南入曽428番地3\, 狭山市\, 埼玉県\, 350-1316\, Japan
CATEGORIES:その他イベント
ORGANIZER;CN="%E3%81%82%E3%81%84%E3%82%8F%E3%82%B5%E3%83%AD%E3%83%B3":MAILTO:aiwasalon33@gmail.com
END:VEVENT
BEGIN:VEVENT
DTSTART;VALUE=DATE:20250629
DTEND;VALUE=DATE:20250630
DTSTAMP:20260425T005821
CREATED:20250601T105412Z
LAST-MODIFIED:20250618T062011Z
UID:1673-1751155200-1751241599@aiwasalon.jp
SUMMARY:量子波動サロンTOKYO Presents✨地球とつながるディクシャ会/中西功ヒーリング
DESCRIPTION:量子波動サロンTOKYO Presents✨ \n地球とつながるディクシャ会 / 中西功ヒーリング  \n  \nワンネスとの出会い: https://youtu.be/uAC7kufUtK4?si=yyVWoxFARRi8Cf7h \n◆日時：2025年6月29日（日） \n会場／量子波動サロンTOKYO (五反田駅徒歩５分） \n【ディクシャ会】 \n開場10:15\n時間：10:30〜12:30　限定15名 \n参加費: 4\,400円(一汁一菜、ひとくちデザート付） \n【ヒーリング】料金　一枠30分　5\,500円 \n①13：00～13：30\n②13：40～14：10\n③14：20～14：50\n④15：00～15：30\n⑤15：40～16：10\n⑥16：20～16：50\n⑦17：00～17：30\n⑧17：40～18：10 \n《企画》量子波動サロンTOKYO \n《お申込み・お問合せ先》\nあいわサロン\n電話：04-2942-3339\nサロン公式LINEアカウント:\nhttps://lin.ee/MfVajpL \n[mwform_formkey key=”1675″]
URL:https://aiwasalon.jp/event/250629-2/
CATEGORIES:ヒーリング
ATTACH;FMTTYPE=image/jpeg:https://aiwasalon.jp/wp-content/uploads/2025/06/S__293765124.jpg
ORGANIZER;CN="%E3%81%82%E3%81%84%E3%82%8F%E3%82%B5%E3%83%AD%E3%83%B3":MAILTO:aiwasalon33@gmail.com
END:VEVENT
BEGIN:VEVENT
DTSTART;VALUE=DATE:20250630
DTEND;VALUE=DATE:20250701
DTSTAMP:20260425T005821
CREATED:20250503T071345Z
LAST-MODIFIED:20250702T121538Z
UID:1563-1751241600-1751327999@aiwasalon.jp
SUMMARY:【見逃し配信お申込受付中】“地球をいやしまつる”日本民族の真の役割   癒しの本質に迫る（全3回）
DESCRIPTION:“地球をいやしまつる”日本民族の真の役割 \n癒しの本質に迫る　全3回 \n「癒し」をテーマに、日本民族の役割と宇宙、地球とのつながりを探る講座。日本民族の役割が「地球の癒し」にあることをその起源から歴史、未来像までを学ぶ全３回講座。 \n４／28（月）PART 1 「癒しの起源」 \n人類の起源～地球に入植した植物型宇宙人／自分を食べさせ続けて、生命全体を進化させた植物／植物から動物、そして人間へ～「ありがとう、いただきます」が生まれるまで／縄文精神の大元とは／パラレルシフトといやし／植物担当の女神コノハナサクヤヒメ \n５／26（月）PART 2 「人間社会における癒しの歴史と日本人の役割」 \n元来、「癒し」という言葉はなかった／先住民の癒し／「きみおもい」～なんのために癒すのか／祭祀の本質／「地球をいやしまつる」日本民族の役割 \n6／30（月）PART 3 「未来における癒しの形」 \nパラレルワールドと次元のはざま／“祈り”と“行動”と“利他”の一致／進化を可能にする「生命エネルギー(徳)」／カギは植物。植物は悟っている／植物と人間の統合 \n7/1（火）番外編　「癒しのための体づくり」（オンラインなし） \n講師●JUN AMANTO \n場所●東京・雑司ヶ谷（鬼子母神）付近およびオンライン \n＊場所の詳細は決定し次第、お知らせします \n時間●18：00～20：00予定 \n参加費●各回　愛和道の会会員or EART LIFE LABO会員5\,000円　一般7\,000円（現地参加、オンラインとも） \n※３回セット（※終了している回は、見逃し配信をご覧いただきます） \n会員12\,000円　一般18\,000円 \n★愛和道の会ご入会ご希望の方はこちら \n■オンライン参加の方へのZoom IDのご案内はイベントの2～3日前にメールで \nご案内させていただきます。 \n■録画配信はイベント終了後、動画の編集が完了し次第（一週間以内が目安）、 \nメールでURLをご案内します（配信期間は2週間） \n《お申込み・お問合せ先》\nあいわサロン\n電話：04-2942-3339\nサロン公式LINEアカウント:\nhttps://lin.ee/MfVajpL \n[mwform_formkey key=”1853″]
URL:https://aiwasalon.jp/event/250630/
LOCATION:量子波動サロンTOKYO\, 西五反田2-15-13　ニューハイツ西五反田1103\, 品川区\, 東京都\, 141-0031\, 日本
CATEGORIES:ヒーリング
ATTACH;FMTTYPE=image/jpeg:https://aiwasalon.jp/wp-content/uploads/2025/04/1742530048248.jpg
ORGANIZER;CN="%E3%81%82%E3%81%84%E3%82%8F%E3%82%B5%E3%83%AD%E3%83%B3":MAILTO:aiwasalon33@gmail.com
END:VEVENT
END:VCALENDAR