BEGIN:VCALENDAR
VERSION:2.0
PRODID:-//あいわサロン - ECPv6.15.13//NONSGML v1.0//EN
CALSCALE:GREGORIAN
METHOD:PUBLISH
X-ORIGINAL-URL:https://aiwasalon.jp
X-WR-CALDESC:あいわサロン のイベント
REFRESH-INTERVAL;VALUE=DURATION:PT1H
X-Robots-Tag:noindex
X-PUBLISHED-TTL:PT1H
BEGIN:VTIMEZONE
TZID:Asia/Tokyo
BEGIN:STANDARD
TZOFFSETFROM:+0900
TZOFFSETTO:+0900
TZNAME:JST
DTSTART:20240101T000000
END:STANDARD
END:VTIMEZONE
BEGIN:VEVENT
DTSTART;TZID=Asia/Tokyo:20250203T200000
DTEND;TZID=Asia/Tokyo:20250203T203000
DTSTAMP:20260425T090128
CREATED:20250130T092129Z
LAST-MODIFIED:20250130T092748Z
UID:1144-1738612800-1738614600@aiwasalon.jp
SUMMARY:【無料！特別放送】立春★中西功のZoom in 夜《夜20時～》
DESCRIPTION:中西功の気づきと癒しの時間～『Zoom in 昼』\nの放送が月に一度、特別に\n夜の時間帯で30分間特別バージョンで放送をさせていただいております。 \n今年初のZOOM IN 夜！！ \nどうぞお楽しみに～！！ \n※ご予約は不要です。\n※五分前よりオープン予定となっておりますので、\nお時間までに下記のZoom　IDでお入りくださいませ。 \n■「功のZOOM IN 夜」2/3(月）20：00～20:30 \nZoomミーティング情報\nhttps://us02web.zoom.us/j/86858211419?pwd=bytuc3pvR2JWTVpNOUxqNnpveEtydz09 \nミーティングID: 868 5821 1419\nパスコード: 430978 \n※平日6：15～行っているZoom in asaと同じZoom idです。\nよろしくお願いいたします。
URL:https://aiwasalon.jp/event/240203/
CATEGORIES:ヒーリング
ATTACH;FMTTYPE=image/png:https://aiwasalon.jp/wp-content/uploads/2025/01/0203.png
ORGANIZER;CN="%E3%81%82%E3%81%84%E3%82%8F%E3%82%B5%E3%83%AD%E3%83%B3":MAILTO:aiwasalon33@gmail.com
END:VEVENT
BEGIN:VEVENT
DTSTART;TZID=Asia/Tokyo:20250215T120000
DTEND;TZID=Asia/Tokyo:20250215T153000
DTSTAMP:20260425T090128
CREATED:20250115T220852Z
LAST-MODIFIED:20250130T085935Z
UID:1099-1739620800-1739633400@aiwasalon.jp
SUMMARY:あいわ食堂の日♪＆ヒーリング練習会＆サロン体験DAY
DESCRIPTION:あいわ食堂の日♪＆ヒーリング練習会【要予約】 \n中西明子さんお手製！\n美味しいごはんをぜひ食べに来てください☆ \n＆ヒーリング練習会✨ \nそして\nあいわサロンをお得に体験できる☆彡\n《スペシャルDAY✨》 \n日時：2月15日(土) \n【ランチ会】12:00〜\n【ヒーリング練習会】14:00～15:30 \n場所:あいわサロン\n（所沢市下富945-3） \n料金：【ランチ会】1500円　小学生500円\n【ヒーリング練習会】1500円 \n※ヒーリング練習会はヒーラー養成セミナーレベルⅠ以上受講済みの方が対象です \n【当日ご参加の方にお得な特典‼️】\n●サロンメニューが特別価格に！！\n脊椎セラピー　【セラゼム60分】　1\,500円\n足湯デトックス　【ゴッドクリーナー30分】　会員3\,300円　非会員4\,400円\nヒーリング30分　会員3\,000円　非会員4\,000円 \nどうぞお気軽にご参加ください❣️\nぜひお越しをお待ちしております！ \n《お申込み・お問合せ先》\nあいわサロン\n電話：04-2942-3339\nサロン公式LINEアカウント:\nhttps://lin.ee/MfVajpL \n[mwform_formkey key=”1103″]
URL:https://aiwasalon.jp/event/240215/
LOCATION:入曽地域交流センター\, 狭山市大字南入曽428番地3\, 狭山市\, 埼玉県\, 350-1316\, Japan
CATEGORIES:その他イベント
ATTACH;FMTTYPE=image/png:https://aiwasalon.jp/wp-content/uploads/2025/01/あいわ食堂の日ヒーリング練習会のコピー-Instagramの投稿-2.png
ORGANIZER;CN="%E3%81%82%E3%81%84%E3%82%8F%E3%82%B5%E3%83%AD%E3%83%B3":MAILTO:aiwasalon33@gmail.com
END:VEVENT
BEGIN:VEVENT
DTSTART;TZID=Asia/Tokyo:20250216T103000
DTEND;TZID=Asia/Tokyo:20250216T160000
DTSTAMP:20260425T090128
CREATED:20250115T224500Z
LAST-MODIFIED:20250130T084832Z
UID:1105-1739701800-1739721600@aiwasalon.jp
SUMMARY:中西明子さんによる味噌づくりの会
DESCRIPTION:☆中西明子さんによる味噌づくりの会☆\n寒仕込みの味噌 一緒に作りましょう!　(10名限定) \n今、発酵食品の良さが注目されています。 日本人の食の原点は、なんといっても米と味噌!　といってもオーバーではありません。 母から子へと引き継いでいきたい食品!　『味噌』 自分でつくるとより美味しく感じられますよ! 　玄米麹をたっぷり使うので、材料費が少し高いのですが、調味料を厳選することは、命を大切にする事につながると思います。調味料だけでもできた、安心なものを使いたいですね。 \n◆日時:2月16日(日)10:30から16:00\n◆場所:埼玉県狭山市入曽地域交流センター\n最寄駅は西武新宿線入曽駅東口下車\n会場住所:狭山市大字南入曽428番地3\n会場電話:04-2959-3004\n◆申込締切:1/20(月)(材料発注の為) \n◆料金：【材料 10キロ仕込む方】\n有機大豆:2.5キロ 玄米麹・玄麦麹:3キロ 恵安の塩:1.2キロ 合計/会場費込み ¥12\,000 \n【材料 5キロ仕込む方 】\n有機大豆:1.25キロ 玄米麹:玄麦麹:1.5キロ 恵安の塩:600グラム 合計/会場費込み ¥6\,500\n※お塩はさらにこだわって奇跡の塩をつかわれる方もいらっしゃいます。ご希望の方は惠安の塩を変更もできますので、お声かけください \n※大豆を煮ていただくために大豆を事前に（1月末ごろ）お送りさせていただきますが、着払いでお送りさせていただきます。※お味噌をいれる容器は当日ご持参ください（煮た豆を入れてお持ちください）\n※麹は玄米だけでなく、玄麦も選べます。\n※仕込み後は、お車の方は、お持ち帰りいただきますが、着払いにて宅急便発送もできます。お申し出ください。宅急便伝票をお持ちします。 \n※材料の発注により、お申し込み後のキャンセルはできません。 \n《お申込み・お問合せ先》\nあいわサロン\n電話：04-2942-3339\nサロン公式LINEアカウント:\nhttps://lin.ee/MfVajpL \n★満員御礼★ありがとうございます
URL:https://aiwasalon.jp/event/240216/
LOCATION:入曽地域交流センター\, 狭山市大字南入曽428番地3\, 狭山市\, 埼玉県\, 350-1316\, Japan
CATEGORIES:その他イベント
ATTACH;FMTTYPE=image/png:https://aiwasalon.jp/wp-content/uploads/2025/01/味噌づくりの会-1.png
ORGANIZER;CN="%E3%81%82%E3%81%84%E3%82%8F%E3%82%B5%E3%83%AD%E3%83%B3":MAILTO:aiwasalon33@gmail.com
END:VEVENT
BEGIN:VEVENT
DTSTART;TZID=Asia/Tokyo:20250221T130000
DTEND;TZID=Asia/Tokyo:20250221T160000
DTSTAMP:20260425T090128
CREATED:20250207T070633Z
LAST-MODIFIED:20250207T095241Z
UID:1163-1740142800-1740153600@aiwasalon.jp
SUMMARY:健康と美をあなたに～株式会社ユー・商品説明会【無料】
DESCRIPTION:健康と美をあなたに～株式会社ユー　商品説明会【無料】 \nコシラック・シュラフ・スカルキャップなど\n美と健康にお役立ちの魅惑的な商品がいっぱい！！✨ \n30年以上の歴史を持つ腰から下の症状改善に自信と実績を持つ株式会社ユーさんの社長自らが来てお話しをしてくださいます。 \n身体のお悩みや何故骨盤を整えることが大切なのか？など健康についての学びもできる貴重な機会です‼️ \nぜひお気軽にご参加ください。\nご予約お待ちしております。 \n日時：2月21日(金) \n13：00～16：00 \n場所:あいわサロン\n（所沢市下富945-3） \n料金：無料 \n定員：4名・・・残り3名 \n《お申込み・お問合せ先》\nあいわサロン\n電話：04-2942-3339\nサロン公式LINEアカウント:\nhttps://lin.ee/MfVajpL \n[mwform_formkey key=”1165″]
URL:https://aiwasalon.jp/event/250221/
LOCATION:入曽地域交流センター\, 狭山市大字南入曽428番地3\, 狭山市\, 埼玉県\, 350-1316\, Japan
CATEGORIES:その他イベント
ORGANIZER;CN="%E3%81%82%E3%81%84%E3%82%8F%E3%82%B5%E3%83%AD%E3%83%B3":MAILTO:aiwasalon33@gmail.com
END:VEVENT
BEGIN:VEVENT
DTSTART;VALUE=DATE:20250224
DTEND;VALUE=DATE:20250225
DTSTAMP:20260425T090128
CREATED:20241218T041522Z
LAST-MODIFIED:20250219T094036Z
UID:1054-1740355200-1740441599@aiwasalon.jp
SUMMARY:【東京＆オンライン】中西功+お話会&ヒーリング《ゲスト：吉野内聖一郎さん》
DESCRIPTION:【東京】中西功+お話会&ヒーリング《ゲスト：吉野内聖一郎さん》 \n数霊でブロック解除！ \n〜数霊が潜在意識を変化させるメカニズム \n吉野内聖一郎さんプロフィール◎よしのうちせいいちろう\n★人体に隠されている膨大な数とデータを明かす\n数霊セラピスト\n有限会社I.H.M.ドルフィン代表取締役社長 \n江本勝著「波動の真理」に感銘を受け、1996年から波動カウンセラーとして1万人以上のクライアントのカウンセリングを継続中。波動測定器ＭＲＡの波動コードに興味を持ち、その波動コードの仕組みを研究する中で“数が持つ意味”を探求するようになる。独自の「数霊」理論を発見し、その法則を取り入れたオリジナルの波動測定器「数霊システム」を開発する。誰でも簡単に自分の問題を解消したり、目標を達成するためのサポートツールとして、全世界をターゲットにした販売を展開中。全国各地でセミナーを開催する中、現在は英語版、ドイツ語版、中国語版の数霊システムが完成しておりアメリカ、ドイツ、トルコ、台湾など海外におけるセミナー活動も展開中。 \n◆日時：2025年2月24日（月祝）\n時間：13:00～14:30　お話会\n15：00〜中西功によるヒーリング※ご予約順 \nお一人様10－15分※当日は受けられない方にはヒーリング券をプレゼント！（一ヶ月間有効） \n会場：量子波動サロン東京 \n参加費：\n会場参加　会員5\,000円／非会員6\,000円\nZoom参加&見逃し配信　会員3\,000円／非会員4\,000円 \n愛和道の会ご入会はこちら \n【吉野内先生の個人セッション決定】\nお話会終了後に\n15：00～16：00～17：00～\nの三枠限定で、60分間の吉野内先生の個人セッション決定！【残2枠】\n数霊システムⅢを使用し、その方のためにセッションさせていただきます。\nお悩みやご希望の意図にあわせて、潜在意識レベルの波動情報にまで、働きかけることのできる波動水\n「数霊（KAZUTAMA）セラピーウォーター」も作成してプレゼント！（約二か月間お飲みいただける水のもとになります） \n個人セッションの料金は\n愛和道の会会員の方は18\,000円、非会員の方は19\,000円となります。 \n※会場参加の方は中西功の個別ヒーリング付（当日～一ヶ月有効のヒーリング券をプレゼントさせていただきます）\nヒーリング券のご使用方法\n①当日21：00～22：00の枠の中で受ける\n※ご予約順、四名限定、お一人様10分～15分\n②後日ヒーリング券の利用（10分～15分）五反田または所沢のサロンで\n③後日ヒーリング券を割引券としてご利用（30分のヒーリング料金　会員4\,400円　/非会員5\,500円の半額券としてご利用いただけます）五反田または所沢のサロンで \n※Zoom参加&見逃し配信あり（遠隔ヒーリングあり）\n※zoomでご参加の方は、対談の最後に遠隔でエネルギーを送ります。 \n毎月、様々なゲストをお呼びして最新の情報をお伝えしていきます！全国の皆さまもZOOM参加や見逃し配信もありますので、ぜひお見逃しなく！ \n※見逃し配信について\nイベント終了から一週間をめどとしてメールで\n送らせていただく予定です（配信期間は２週間です） \n会場／量子波動サロン東京\n東京都品川区西五反田2-15-13　ニューハイツ西五反田1103 \n《お申込み・お問合せ先》\nあいわサロン\n電話：04-2942-3339\nサロン公式LINEアカウント:\nhttps://lin.ee/MfVajpL \n[mwform_formkey key=”1057″]
URL:https://aiwasalon.jp/event/240224/
LOCATION:量子波動サロンTOKYO\, 西五反田2-15-13　ニューハイツ西五反田1103\, 品川区\, 東京都\, 141-0031\, 日本
CATEGORIES:ヒーリング
ATTACH;FMTTYPE=image/png:https://aiwasalon.jp/wp-content/uploads/2024/12/お話会＆ヒーリング2.24のコピー-Instagramの投稿.png
ORGANIZER;CN="%E3%81%82%E3%81%84%E3%82%8F%E3%82%B5%E3%83%AD%E3%83%B3":MAILTO:aiwasalon33@gmail.com
END:VEVENT
END:VCALENDAR