BEGIN:VCALENDAR
VERSION:2.0
PRODID:-//あいわサロン - ECPv6.15.13//NONSGML v1.0//EN
CALSCALE:GREGORIAN
METHOD:PUBLISH
X-WR-CALNAME:あいわサロン
X-ORIGINAL-URL:https://aiwasalon.jp
X-WR-CALDESC:あいわサロン のイベント
REFRESH-INTERVAL;VALUE=DURATION:PT1H
X-Robots-Tag:noindex
X-PUBLISHED-TTL:PT1H
BEGIN:VTIMEZONE
TZID:Asia/Tokyo
BEGIN:STANDARD
TZOFFSETFROM:+0900
TZOFFSETTO:+0900
TZNAME:JST
DTSTART:20250101T000000
END:STANDARD
END:VTIMEZONE
BEGIN:VEVENT
DTSTART;VALUE=DATE:20260303
DTEND;VALUE=DATE:20260304
DTSTAMP:20260424T163230
CREATED:20260221T221225Z
LAST-MODIFIED:20260221T221751Z
UID:2570-1772496000-1772582399@aiwasalon.jp
SUMMARY:満月★デトックスデイ
DESCRIPTION:2026年3月3日(火)満月🌕デトックスデイ \n春はデトックスの季節です。しかもこの日は皆既月食がおこる大切な日🌕\n新月、満月を活用することで、より効果的にデトックスをしてもらうことが出来ます✌️\nその効果は通常の約3倍🤟と言われています‼️ \n【デトックスデイでデトックスされる方の特典】 \n①当日、ニュースキャンのウイルスセラピー(10分)付き🎁 \n②当日、中西功のヒーリングが半額料金で受けられます！🎁 \n（３０分　会員　4\,400円→2\,200円　一般5\,500円→2\,750円） \n③当日、回数券を特別価格で販売します※1回30分 \n５回券　18\,000円→17\,000円(1回3\,400円)\n10回券　35\,000円→33\,000円(1回3\,300円) \n④【ご予約の方限定】で\n内側からのデトックスを促すランチおむすびセットやカフェセット（体に優しいデザート＆ドリンク）をご希望の方にはお出しします(各500円) \nゴッドクリーナーのご予約時間枠 \n10:30～ 11：00～ 12:00～　13:00～　14:00～　15：00～　16：00～ 16:30～ \n場所:あいわサロン\n（所沢市下富945-3） \n料金：足湯デトックス　【ゴッドクリーナー】\n30分　4\,000円　　60分　7\,500円 \n※ご希望の方は酵素玄米ランチ(500円)やデザートセット（500円）付 \n◎ほかのセラピーも併せて受けていただくのがおすすめです。\nセラゼムマスターV3\n60分　会員2\,200円　一般3\,300円など・・・ \nぜひこの機会お見逃しなく～！ \nお申し込みをお待ちしております！ \n《お申込み・お問合せ先》\nあいわサロン\n電話：04-2942-3339\nサロン公式LINEアカウント:\nhttps://lin.ee/MfVajpL \n[mwform_formkey key=”2569″]
URL:https://aiwasalon.jp/event/260303/
CATEGORIES:その他イベント
ORGANIZER;CN="%E3%81%82%E3%81%84%E3%82%8F%E3%82%B5%E3%83%AD%E3%83%B3":MAILTO:aiwasalon33@gmail.com
END:VEVENT
BEGIN:VEVENT
DTSTART;VALUE=DATE:20260309
DTEND;VALUE=DATE:20260310
DTSTAMP:20260424T163230
CREATED:20260111T030139Z
LAST-MODIFIED:20260111T033638Z
UID:2467-1773014400-1773100799@aiwasalon.jp
SUMMARY:3/9【東京】中西功　お話会&ヒーリング
DESCRIPTION:【東京】中西功　お話会&ヒーリング \n\nなかにしいさお◎一般社団法人愛和道協会代表理事。1980年生まれ。愛和道®JOYヒーリングの創設者である亡き父、ケビンこと中西研二と共に18年間にわたり、国内外での各種セミナーを開催する。2020年からは、自らもセミナー講師として活動開始。4児の子育てしながら己育て中\n\n2026年3月9日（月） \n時間：13:00～14:00　お話会\n14：15〜中西功によるヒーリング※ご予約順 \nお一人様約15分※当日は受けられない方にはヒーリング券をプレゼント！（一ヶ月間有効） \n会場：量子波動サロン東京\n東京都品川区西五反田2-15-13　ニューハイツ西五反田1103 \n参加費：【会場参加（個別ヒーリング付）】愛和道の会会員3\,850円　一般5\,500円\n【ZOOM参加（一斉遠隔ヒーリング付・見逃し配信あり）】愛和道の会会員3\,000円　一般4\,000円 \n★非会員の方で、お話会のお申込～当日に愛和道の会にご入会の場合は、参加費が1\,000円に！\n（愛和道の会　入会金&年会費→5\,000円1年間有効\n(カード払いで自動更新を選択の場合4\,500円)） \nNETからご入会の場合はこちらから \n★会場参加の方★中西功の個別ヒーリング付（当日受けられない方には、一ヶ月有効のヒーリング券をプレゼントさせていただきます）\nヒーリング券のご使用方法\n①後日ヒーリング券の利用（10～15分）五反田または所沢のサロンで\n②後日ヒーリング券を割引券としてご利用（30分のヒーリング料金　会員4\,400円　/非会員5\,500円の半額券としてご利用いただけます）五反田または所沢のサロンで \n★ZOOM参加（見逃し配信）の方★お話会の最後に一斉遠隔ヒーリングをさせていただきます \nあいわサロン公式LINEアカウントのご登録はこちらから \n※見逃し配信について\nイベント終了から一週間をめどとしてメールで\n送らせていただく予定です（配信期間は２週間です） \n《お申込み・お問合せ先》\nあいわサロン\n電話：04-2942-3339\nサロン公式LINEアカウント:\nhttps://lin.ee/MfVajpL \n[mwform_formkey key=”2471″]
URL:https://aiwasalon.jp/event/260309/
LOCATION:量子波動サロンTOKYO\, 西五反田2-15-13　ニューハイツ西五反田1103\, 品川区\, 東京都\, 141-0031\, 日本
CATEGORIES:ヒーリング
ATTACH;FMTTYPE=image/png:https://aiwasalon.jp/wp-content/uploads/2026/01/中西功お話会＆ヒーリング2026-2.png
ORGANIZER;CN="%E3%81%82%E3%81%84%E3%82%8F%E3%82%B5%E3%83%AD%E3%83%B3":MAILTO:aiwasalon33@gmail.com
END:VEVENT
BEGIN:VEVENT
DTSTART;TZID=Asia/Tokyo:20260311T203000
DTEND;TZID=Asia/Tokyo:20260311T210000
DTSTAMP:20260424T163230
CREATED:20260306T064254Z
LAST-MODIFIED:20260306T064901Z
UID:2585-1773261000-1773262800@aiwasalon.jp
SUMMARY:【無料！特別放送】中西功のZoom in ASA 888回記念放送《夜20：30～》
DESCRIPTION:中西功の気づきと癒しの時間～『Zoom in ASA』\nの放送が月に一度、特別に\n夜の時間帯で30分間特別バージョンで放送をさせていただいておりますが、 \n今回はなんと・・・888回記念放送です！！ \nどうぞお楽しみに～！！ \n※ご予約は不要です。\n※五分前よりオープン予定となっておりますので、\nお時間までに下記のZoom　IDでお入りくださいませ。 \n■「功のZOOM IN 夜」20：30～21:00 \nZoomミーティング情報\nhttps://us02web.zoom.us/j/86858211419?pwd=bytuc3pvR2JWTVpNOUxqNnpveEtydz09 \nミーティングID: 868 5821 1419\nパスコード: 430978 \n※月～金の朝6:15～15分間行っているZoom in ASAと同じZoom idです。\nよろしくお願いいたします。
URL:https://aiwasalon.jp/event/260311/
CATEGORIES:ヒーリング
ATTACH;FMTTYPE=image/png:https://aiwasalon.jp/wp-content/uploads/2026/03/Footer-12.png
ORGANIZER;CN="%E3%81%82%E3%81%84%E3%82%8F%E3%82%B5%E3%83%AD%E3%83%B3":MAILTO:aiwasalon33@gmail.com
END:VEVENT
BEGIN:VEVENT
DTSTART;VALUE=DATE:20260314
DTEND;VALUE=DATE:20260315
DTSTAMP:20260424T163230
CREATED:20260301T065637Z
LAST-MODIFIED:20260301T065854Z
UID:2575-1773446400-1773532799@aiwasalon.jp
SUMMARY:3/14（土）ヒーリングを楽しむ会
DESCRIPTION:ヒーリングを楽しむ会【要予約】 \nどなたでも、どうぞお気軽にご参加ください❣️ \nぜひお越しをお待ちしております！ \n日時：3月14日(土)\n13:30〜15:00 \n場所:あいわサロン\n（所沢市下富945-3） \n料金：2\,000円 \n《お申込み・お問合せ先》\nあいわサロン\n電話：04-2942-3339\nサロン公式LINEアカウント:\nhttps://lin.ee/MfVajpL \n\n\n[mwform_formkey key=”2577″]
URL:https://aiwasalon.jp/event/260314/
CATEGORIES:その他イベント
ORGANIZER;CN="%E3%81%82%E3%81%84%E3%82%8F%E3%82%B5%E3%83%AD%E3%83%B3":MAILTO:aiwasalon33@gmail.com
END:VEVENT
BEGIN:VEVENT
DTSTART;VALUE=DATE:20260318
DTEND;VALUE=DATE:20260319
DTSTAMP:20260424T163230
CREATED:20260301T071104Z
LAST-MODIFIED:20260301T071104Z
UID:2580-1773792000-1773878399@aiwasalon.jp
SUMMARY:新月★デトックスデイ
DESCRIPTION:2026年3月18日(水)新月🌕デトックスデイ \n春はデトックスの季節です。\n新月、満月を活用することで、より効果的にデトックスをしてもらうことが出来ます✌️\nその効果は通常の約3倍🤟と言われています‼️ \n【デトックスデイでデトックスされる方の特典】 \n①当日、ニュースキャンのウイルスセラピー(10分)付き🎁 \n②当日、中西功のヒーリングが半額料金で受けられます！🎁 \n（３０分　会員　4\,400円→2\,200円　一般5\,500円→2\,750円） \n③当日、回数券を特別価格で販売します※1回30分 \n５回券　18\,000円→17\,000円(1回3\,400円)\n10回券　35\,000円→33\,000円(1回3\,300円) \n④【ご予約の方限定】で\n内側からのデトックスを促すランチおむすびセットやカフェセット（体に優しいデザート＆ドリンク）をご希望の方にはお出しします(各500円) \nゴッドクリーナーのご予約時間枠 \n10:30～ 11：00～ 12:00～　13:00～　14:00～　15：00～　16：00～ 16:30～ \n場所:あいわサロン\n（所沢市下富945-3） \n料金：足湯デトックス　【ゴッドクリーナー】\n30分　4\,000円　　60分　7\,500円 \n※ご希望の方は酵素玄米ランチ(500円)やデザートセット（500円）付 \n◎ほかのセラピーも併せて受けていただくのがおすすめです。\nセラゼムマスターV3\n60分　会員2\,200円　一般3\,300円など・・・ \nぜひこの機会お見逃しなく～！ \nお申し込みをお待ちしております！ \n《お申込み・お問合せ先》\nあいわサロン\n電話：04-2942-3339\nサロン公式LINEアカウント:\nhttps://lin.ee/MfVajpL \n[mwform_formkey key=”2579″]
URL:https://aiwasalon.jp/event/260318/
CATEGORIES:その他イベント
ORGANIZER;CN="%E3%81%82%E3%81%84%E3%82%8F%E3%82%B5%E3%83%AD%E3%83%B3":MAILTO:aiwasalon33@gmail.com
END:VEVENT
BEGIN:VEVENT
DTSTART;VALUE=DATE:20260321
DTEND;VALUE=DATE:20260322
DTSTAMP:20260424T163230
CREATED:20260111T035343Z
LAST-MODIFIED:20260126T084142Z
UID:2479-1774051200-1774137599@aiwasalon.jp
SUMMARY:3/21(土)あいわ食堂の日♪＆サロン体験DAY
DESCRIPTION:あいわ食堂の日♪＆サロン体験DAY【要予約】 \nあいわサロンスタッフによる\n旬のお野菜を使った、美味しいごはんをぜひ食べに来てください☆ \nそして\nあいわサロンをお得に体験できる☆彡\n《スペシャルDAY✨》 \n日時：3月21日(土)\n12：00～14:00　ランチ\n14：00～17:00　セラピーなど \n場所:あいわサロン\n（所沢市下富945-3） \n料金：【ランチ会】1500円　小学生500円 \n【当日ご参加の方にお得な特典‼️】\n●サロンメニューが特別価格に！！\n脊椎セラピー　【セラゼム60分】　1\,500円※30分の場合　1\,000円\n足湯デトックス　【ゴッドクリーナー30分】　会員3\,500円　非会員4\,600円\nヒーリング30分　会員3\,000円　非会員4\,000円\nブレインパワートレーナー30分　会員2\,250円　非会員3\,550円 \nどうぞお気軽にご参加ください❣️\nぜひお越しをお待ちしております！ \n《お申込み・お問合せ先》\nあいわサロン\n電話：04-2942-3339\nサロン公式LINEアカウント:\nhttps://lin.ee/MfVajpL \n\n\n[mwform_formkey key=”2483″]
URL:https://aiwasalon.jp/event/260321/
CATEGORIES:その他イベント
ATTACH;FMTTYPE=image/png:https://aiwasalon.jp/wp-content/uploads/2026/01/あいわ食堂の日のコピー-1.png
ORGANIZER;CN="%E3%81%82%E3%81%84%E3%82%8F%E3%82%B5%E3%83%AD%E3%83%B3":MAILTO:aiwasalon33@gmail.com
END:VEVENT
BEGIN:VEVENT
DTSTART;VALUE=DATE:20260323
DTEND;VALUE=DATE:20260324
DTSTAMP:20260424T163230
CREATED:20260318T080150Z
LAST-MODIFIED:20260318T111254Z
UID:2615-1774224000-1774310399@aiwasalon.jp
SUMMARY:お彼岸最終日・先祖への感謝の会
DESCRIPTION:お彼岸最終日・先祖への感謝の会 \n春分は、太陽が真東から昇り真西に沈み、\n昼と夜の長さがほぼ同じになる特別な日です。 \nこのことから日本では、 \nあの世（ご先祖の世界）と\nこの世（私たちの世界）\nが最も通じやすくなる日と考えられてきました。 \nそのため春分の日は、 \n✨ ご先祖とつながる日\n✨ 自然と調和する日\n✨ 心を整える節目の日 \nとされてきたのです。 \nこの日はお彼岸の最終日 \nご先祖への感謝\n自然への感謝\n今ここに生きていることへの感謝 \nを思い出す日にしたいと思います。 \n3/23(月)20：30～21：30　オンライン参加限定（見逃し配信あり）\n参加費：会員3\,900円／非会員4\,900円 \n※愛和道の会のご入会希望の方はこちらから \n※見逃し配信について\nイベント終了から一週間をめどとしてメールで\n送らせていただく予定です（配信期間は２週間です） \nなかにしいさお◎一般社団法人愛和道協会代表理事。1980年生まれ。愛和道®JOYヒーリングの創設者である亡き父、ケビンこと中西研二と共に18年間にわたり、国内外での各種セミナーを開催する。2020年からは、自らもセミナー講師として活動開始。4児の子育てしながら己育て中 \nあいわサロン公式LINEアカウントのご登録はこちらから \n  \n《お申込み・お問合せ先》\nあいわサロン\n電話：04-2942-3339\nサロン公式LINEアカウント:\nhttps://lin.ee/MfVajpL \n[mwform_formkey key=”2620″]
URL:https://aiwasalon.jp/event/260323/
CATEGORIES:ヒーリング
ATTACH;FMTTYPE=image/png:https://aiwasalon.jp/wp-content/uploads/2026/03/緑-白-323先祖への感謝の会のアイキャッチ-1-1.png
ORGANIZER;CN="%E3%81%82%E3%81%84%E3%82%8F%E3%82%B5%E3%83%AD%E3%83%B3":MAILTO:aiwasalon33@gmail.com
END:VEVENT
END:VCALENDAR