BEGIN:VCALENDAR
VERSION:2.0
PRODID:-//あいわサロン - ECPv6.15.13//NONSGML v1.0//EN
CALSCALE:GREGORIAN
METHOD:PUBLISH
X-ORIGINAL-URL:https://aiwasalon.jp
X-WR-CALDESC:あいわサロン のイベント
REFRESH-INTERVAL;VALUE=DURATION:PT1H
X-Robots-Tag:noindex
X-PUBLISHED-TTL:PT1H
BEGIN:VTIMEZONE
TZID:Asia/Tokyo
BEGIN:STANDARD
TZOFFSETFROM:+0900
TZOFFSETTO:+0900
TZNAME:JST
DTSTART:20230101T000000
END:STANDARD
END:VTIMEZONE
BEGIN:VEVENT
DTSTART;VALUE=DATE:20241025
DTEND;VALUE=DATE:20241026
DTSTAMP:20260425T235723
CREATED:20240923T001101Z
LAST-MODIFIED:20240923T002741Z
UID:895-1729814400-1729900799@aiwasalon.jp
SUMMARY:【東京＆オンライン】中西功+お話会&ヒーリング《ゲスト：名取直子さん》
DESCRIPTION:【東京】中西功+お話会&ヒーリング《ゲスト：名取直子さん》 \n子どもの居場所づくりや子ども食堂運営に携わる埼玉のコミュニティカフェオーナー、直子さん。様々な支援活動を行う直子さんのその心は？ \nゲスト：名取直子さん\nなとりなおこ◎埼玉県在住。コミュニティカフェオーナーとして、子どもの居場所作り活動、子ども食堂運営に携わる。絵本読み聞かせ、紙芝居師活動を通じて、人生の悩み事、生きづらさの根っこは幼少期の体験と母子関係が大きく関係していると確信。EQ絵本講師として、絵本を通じたお母さんの心の声、本音を引き出す傾聴と問いかけるスタイルが人気。 お母さんの笑顔を真ん中に置く 『マザースマイルファーストを第一に、親子の絆、いのちの結び直しに取り組んでいます。 夢は世の中に笑っているお母さんをひとりでも多く増やし、エンターテイナーおばあちゃんになること♪ \n◆日時\n2024年10月25日(金）\n時間：19:00～21:00　お話会\n21:00～22:00　中西功によるヒーリング※ご予約順（4名様限定）お一人様10－15分※このお時間をご希望でない方にはヒーリング券をプレゼント！（一ヶ月間有効） \n会場：量子波動サロン東京 \n参加費：\n会場参加　会員5\,000円／非会員6\,000円\nZoom参加&見逃し配信　会員3\,000円／非会員4\,000円 \n※会場参加の方は個別ヒーリング付（当日～一ヶ月有効のヒーリング券をプレゼントさせていただきます）\nヒーリング券のご使用方法\n①当日21：00～22：00の枠の中で受ける\n※ご予約順、四名限定、お一人様10分～15分\n②後日ヒーリング券の利用（10分～15分）五反田または所沢のサロンで\n③後日ヒーリング券を割引券としてご利用（30分のヒーリング料金　会員4\,400円　/非会員5\,500円の半額券としてご利用いただけます）五反田または所沢のサロンで \n※Zoom参加&見逃し配信あり（遠隔ヒーリングあり）\n※zoomでご参加の方は、対談の最後に遠隔でエネルギーを送ります。 \n毎月、様々なゲストをお呼びして最新の情報をお伝えしていきます！全国の皆さまもZOOM参加や見逃し配信もありますので、ぜひお見逃しなく！ \n※見逃し配信について\nイベント終了から一週間をめどとしてメールで\n送らせていただく予定です（配信期間は一週間です） \n会場／量子波動サロン東京\n東京都品川区西五反田2-15-13　ニューハイツ西五反田1103 \n《お申込み・お問合せ先》\nあいわサロン\n電話：04-2942-3339\nサロン公式LINEアカウント:\nhttps://lin.ee/MfVajpL \n[mwform_formkey key=”898″]
URL:https://aiwasalon.jp/event/241025tk/
LOCATION:量子波動サロンTOKYO\, 西五反田2-15-13　ニューハイツ西五反田1103\, 品川区\, 東京都\, 141-0031\, 日本
CATEGORIES:ヒーリング
ATTACH;FMTTYPE=image/png:https://aiwasalon.jp/wp-content/uploads/2024/09/お話会＆ヒーリング1025のコピー-Instagramの投稿.png
ORGANIZER;CN="%E3%81%82%E3%81%84%E3%82%8F%E3%82%B5%E3%83%AD%E3%83%B3":MAILTO:aiwasalon33@gmail.com
END:VEVENT
BEGIN:VEVENT
DTSTART;TZID=Asia/Tokyo:20241026T120000
DTEND;TZID=Asia/Tokyo:20241026T140000
DTSTAMP:20260425T235723
CREATED:20241022T093721Z
LAST-MODIFIED:20241022T110320Z
UID:925-1729944000-1729951200@aiwasalon.jp
SUMMARY:カレーの日♪＆サロン体験DAY
DESCRIPTION:カレーの日♪【要予約】 \nネパールの国民的奏者パンチャラマさん直伝！\n中西明子さんお手製！\n美味しいカレーをぜひ食べに来てください \nそして\nあいわサロンをお得に体験できる☆彡\n《スペシャルDAY✨》 \n日時：10月26日(土)12:00〜\n場所:あいわサロン\n（所沢市下富945-3） \n料金：1500円　小学生500円 \n【当日ご参加の方にお得な特典‼️】\n●サロンメニューが特別価格に！！\n脊椎セラピー　【セラゼム60分】　1\,500円\n足湯デトックス　【ゴッドクリーナー30分】　会員2\,700円　非会員3\,500円\nヒーリング　会員3\,000円　非会員4\,000円 \nどうぞお気軽にご参加ください❣️\nぜひお越しをお待ちしております！ \n《お申込み・お問合せ先》\nあいわサロン\n電話：04-2942-3339\nサロン公式LINEアカウント:\nhttps://lin.ee/MfVajpL \n[mwform_formkey key=”927″]
URL:https://aiwasalon.jp/event/241026/
LOCATION:入曽地域交流センター\, 狭山市大字南入曽428番地3\, 狭山市\, 埼玉県\, 350-1316\, Japan
CATEGORIES:その他イベント
ATTACH;FMTTYPE=image/png:https://aiwasalon.jp/wp-content/uploads/2024/09/カレーの日　軽.png
ORGANIZER;CN="%E3%81%82%E3%81%84%E3%82%8F%E3%82%B5%E3%83%AD%E3%83%B3":MAILTO:aiwasalon33@gmail.com
END:VEVENT
END:VCALENDAR