BEGIN:VCALENDAR
VERSION:2.0
PRODID:-//あいわサロン - ECPv6.15.13//NONSGML v1.0//EN
CALSCALE:GREGORIAN
METHOD:PUBLISH
X-ORIGINAL-URL:https://aiwasalon.jp
X-WR-CALDESC:あいわサロン のイベント
REFRESH-INTERVAL;VALUE=DURATION:PT1H
X-Robots-Tag:noindex
X-PUBLISHED-TTL:PT1H
BEGIN:VTIMEZONE
TZID:Asia/Tokyo
BEGIN:STANDARD
TZOFFSETFROM:+0900
TZOFFSETTO:+0900
TZNAME:JST
DTSTART:20240101T000000
END:STANDARD
END:VTIMEZONE
BEGIN:VEVENT
DTSTART;VALUE=DATE:20250803
DTEND;VALUE=DATE:20250804
DTSTAMP:20260422T183430
CREATED:20250720T072158Z
LAST-MODIFIED:20250720T072403Z
UID:1958-1754179200-1754265599@aiwasalon.jp
SUMMARY:量子波動サロンTOKYO Presents✨～先祖解放～ディクシャ会/中西功ヒーリング
DESCRIPTION:量子波動サロンTOKYO Presents✨ \n～先祖解放～ディクシャ会 / 中西功ヒーリング  \n  \nワンネスとの出会い: https://youtu.be/uAC7kufUtK4?si=yyVWoxFARRi8Cf7h \n◆日時：2025年８月３日（日） \n会場／量子波動サロンTOKYO (五反田駅徒歩５分） \n【ディクシャ会】 \n開場10:15\n時間：10:30〜12:30　限定1７名 \n参加費: 4\,400円(奇跡の塩＆波動付） \n【ヒーリング】料金　一枠30分　5\,500円 \n①13：00～13：30\n②13：40～14：10\n③14：20～14：50\n④15：00～15：30\n⑤15：40～16：10\n⑥16：20～16：50\n⑦17：00～17：30\n⑧17：40～18：10 \n《企画》量子波動サロンTOKYO \n《お申込み・お問合せ先》\nあいわサロン\n電話：04-2942-3339\nサロン公式LINEアカウント:\nhttps://lin.ee/MfVajpL \n[mwform_formkey key=”1957″]
URL:https://aiwasalon.jp/event/250803/
CATEGORIES:ヒーリング
ATTACH;FMTTYPE=image/jpeg:https://aiwasalon.jp/wp-content/uploads/2025/07/100969.jpg
ORGANIZER;CN="%E3%81%82%E3%81%84%E3%82%8F%E3%82%B5%E3%83%AD%E3%83%B3":MAILTO:aiwasalon33@gmail.com
END:VEVENT
BEGIN:VEVENT
DTSTART;VALUE=DATE:20250806
DTEND;VALUE=DATE:20250807
DTSTAMP:20260422T183430
CREATED:20250618T081104Z
LAST-MODIFIED:20250618T085340Z
UID:1773-1754438400-1754524799@aiwasalon.jp
SUMMARY:第3回　愛和道講座【先祖解放はなぜ必要なのか？ ケビンによる先祖解放のワーク】
DESCRIPTION:4月から、新たな講座がスタートしました。 \nその名も【愛和道講座】 \n創始者ケビンこと中西研二の教え・動画を使いながら、\n中西功が解説していく5回シリーズのオンラインの講座になります。\nJOYヒーリングを学んだ方も初めての方もケビンが愛和道で伝えたかった\n人生を楽しくする方法をお伝えします！ \n第三回　8/6(水)\n先祖解放はなぜ必要なのか？\nケビンによる先祖解放のワーク \n——————————————– \n《過去の回をお見逃しの方へ》見逃し配信がございます！ \n五回セットでお申し込みの方は過去の回は見逃し配信でご覧いただき、今回からリアル参加が可能です。 \n第一回　4/9(水)\n愛和道に込められた意味とは\n「今を生きることの大切さ」\n★見逃し配信のお申し込みはこちらから \n第二回　6/11(水)\n相手を癒す前に、自分自身の心と体を整える\n★見逃し配信のお申し込みはこちらから \n\n《次回以降の予定》 \n第四回　10/8(水)\n人との関係を愛で満たす方法 \n第五回　12/10(水)\nすべての存在と「愛」と「調和」でつながる\nこれまでの学びの総まとめ \n—————————————— \n各回　20：30～21：30予定 \n参加費：オンライン参加　会員3\,300円／非会員4\,400円\nZOOM配信※見逃し配信付 \n5回セット※1回目は見逃し配信となります。\n会員　　15\,000円\n非会員　20\,000円 \n★愛和道の会ご入会ご希望の方はこちら \n※見逃し配信について\nイベント終了から一週間をめどとしてメールで\n送らせていただく予定です（配信期間は２週間です） \n  \n中西功プロフィール \n1980年東京生まれ。父であるヒーリング界のレジェンド、中西研二が行うヒーリングで奇跡が起こるのを目の当たりにし、以降、22年に渡りヒーラーとしての修行を積み、人々を癒しへと導いてきた。父やインドの聖者からも「内側のバランスが取れている」「本物のスピリチュアリズムを体現している」と称されるほど、穏やかなバイブレーションは傍にいるだけで癒されると評判。愛和道®JOYヒーリングの神髄「大和ワンネス」を世界に広める活動をしている。 \n《お申込み・お問合せ先》\nあいわサロン\n電話：04-2942-3339\nサロン公式LINEアカウント:\nhttps://lin.ee/MfVajpL \n[mwform_formkey key=”1782″]
URL:https://aiwasalon.jp/event/250806/
CATEGORIES:ヒーリング
ATTACH;FMTTYPE=image/png:https://aiwasalon.jp/wp-content/uploads/2025/06/愛和道講座-2.png
ORGANIZER;CN="%E3%81%82%E3%81%84%E3%82%8F%E3%82%B5%E3%83%AD%E3%83%B3":MAILTO:aiwasalon33@gmail.com
END:VEVENT
BEGIN:VEVENT
DTSTART;TZID=Asia/Tokyo:20250809T203000
DTEND;TZID=Asia/Tokyo:20250809T210000
DTSTAMP:20260422T183430
CREATED:20250731T100853Z
LAST-MODIFIED:20250801T081939Z
UID:2011-1754771400-1754773200@aiwasalon.jp
SUMMARY:【無料！特別放送】中西功のZoom in 夜《夜20：30～》
DESCRIPTION:中西功の気づきと癒しの時間～『Zoom in ASA』\nの放送が月に一度、特別に\n夜の時間帯で30分間特別バージョンで放送をさせていただいております。 \nどうぞお楽しみに～！！ \n※ご予約は不要です。\n※五分前よりオープン予定となっておりますので、\nお時間までに下記のZoom　IDでお入りくださいませ。 \n■「功のZOOM IN 夜」20：30～21:00 \nZoomミーティング情報\nhttps://us02web.zoom.us/j/86858211419?pwd=bytuc3pvR2JWTVpNOUxqNnpveEtydz09 \nミーティングID: 868 5821 1419\nパスコード: 430978 \n※月曜～金曜の朝6:15～行っているZoom in ASAと同じZoom idです。\nよろしくお願いいたします。
URL:https://aiwasalon.jp/event/250809/
CATEGORIES:ヒーリング
ATTACH;FMTTYPE=image/png:https://aiwasalon.jp/wp-content/uploads/2025/07/Footer-8.png
ORGANIZER;CN="%E3%81%82%E3%81%84%E3%82%8F%E3%82%B5%E3%83%AD%E3%83%B3":MAILTO:aiwasalon33@gmail.com
END:VEVENT
BEGIN:VEVENT
DTSTART;VALUE=DATE:20250811
DTEND;VALUE=DATE:20250812
DTSTAMP:20260422T183430
CREATED:20250713T224000Z
LAST-MODIFIED:20250806T094742Z
UID:1934-1754870400-1754956799@aiwasalon.jp
SUMMARY:【東京】中西功　お話会&ヒーリング
DESCRIPTION:【東京】中西功　お話会&ヒーリング \n中西功の今伝えたい話＆瞑想＆ヒーリング \n\nなかにしいさお◎一般社団法人愛和道協会代表理事。1980年生まれ。愛和道®JOYヒーリングの創設者である亡き父、ケビンこと中西研二と共に18年間にわたり、国内外での各種セミナーを開催する。2020年からは、自らもセミナー講師として活動開始。4児の子育てしながら己育て中\n\n\n今回は8月11日（月祝）山の日の開催です✨\nしかも一粒万倍日と大安、そして天恩日が重なる、縁起の良い日です✨ \n会場参加者全員に数霊システムⅢで作った『金運水』のプレゼントをさせていただきます😊🙏🎁\nもちろん、功が奇跡の水としてのエネルギーもプラスさせていただきます✨ \nさらに今回は、ケビンのスペシャルトークを用意しています✨ \n今月はお盆の時期にも重なるため『先祖解放』をテーマにお話させていただきます🙏✨ \nそして、土用明けとなる立秋を迎えますが、日本では水不足、そして今世界中が揺れています。 \n7月に7次元のエネルギー伝授をしたからこそ、日本が守られている部分も体感として実感しています。 \nいよいよ地球の大きな変革期に来た今だからこそ、内側の波動を整えることの大切さ、そのために愛和道JOYヒーリングを受ける、実践することの必要性を感じています🙏 \n月に一度、皆さまにその安心の波動をお届けできることを私自身楽しみにしています✨ \nお盆前に先祖の皆さまとのつながりに感謝することの大切さを一緒に考えましょう‼️ \nご参加お待ちしています🙏😊 \n\n8月11日（月祝） \n時間：13:00～14:00　お話会\n14：15〜中西功によるヒーリング※ご予約順 \nお一人様約15分※当日は受けられない方にはヒーリング券をプレゼント！（一ヶ月間有効） \n★会場参加限定特典：株式会社いやしの村代表取締役　孫崎さんからプレゼントあり！ \n会場：量子波動サロン東京\n東京都品川区西五反田2-15-13　ニューハイツ西五反田1103 \n参加費：【会場参加（個別ヒーリング付）】愛和道の会会員3\,850円　一般5\,500円\n【ZOOM参加（一斉遠隔ヒーリング付・見逃し配信あり）】愛和道の会会員3\,000円　一般4\,000円 \n※非会員の方で、当日愛和道の会にご入会の場合は、参加費無料\n（愛和道の会　入会金&年会費→5\,000円1年間有効\n(カード払いで自動更新を選択の場合4\,500円)） \n★会場参加の方★中西功の個別ヒーリング付（当日受けられない方には、一ヶ月有効のヒーリング券をプレゼントさせていただきます）\nヒーリング券のご使用方法\n①後日ヒーリング券の利用（10～15分）五反田または所沢のサロンで\n②後日ヒーリング券を割引券としてご利用（30分のヒーリング料金　会員4\,400円　/非会員5\,500円の半額券としてご利用いただけます）五反田または所沢のサロンで \n★ZOOM参加（見逃し配信）の方★お話会の最後に一斉遠隔ヒーリングをさせていただきます \nあいわサロン公式LINEアカウントのご登録はこちらから \n※見逃し配信について\nイベント終了から一週間をめどとしてメールで\n送らせていただく予定です（配信期間は２週間です） \n《お申込み・お問合せ先》\nあいわサロン\n電話：04-2942-3339\nサロン公式LINEアカウント:\nhttps://lin.ee/MfVajpL \n[mwform_formkey key=”1938″]
URL:https://aiwasalon.jp/event/250811/
LOCATION:量子波動サロンTOKYO\, 西五反田2-15-13　ニューハイツ西五反田1103\, 品川区\, 東京都\, 141-0031\, 日本
CATEGORIES:ヒーリング
ATTACH;FMTTYPE=image/png:https://aiwasalon.jp/wp-content/uploads/2025/07/中西功お話会＆ヒーリングのコピー-Instagramの投稿のコピー-4.png
ORGANIZER;CN="%E3%81%82%E3%81%84%E3%82%8F%E3%82%B5%E3%83%AD%E3%83%B3":MAILTO:aiwasalon33@gmail.com
END:VEVENT
END:VCALENDAR