BEGIN:VCALENDAR
VERSION:2.0
PRODID:-//あいわサロン - ECPv6.15.13//NONSGML v1.0//EN
CALSCALE:GREGORIAN
METHOD:PUBLISH
X-WR-CALNAME:あいわサロン
X-ORIGINAL-URL:https://aiwasalon.jp
X-WR-CALDESC:あいわサロン のイベント
REFRESH-INTERVAL;VALUE=DURATION:PT1H
X-Robots-Tag:noindex
X-PUBLISHED-TTL:PT1H
BEGIN:VTIMEZONE
TZID:Asia/Tokyo
BEGIN:STANDARD
TZOFFSETFROM:+0900
TZOFFSETTO:+0900
TZNAME:JST
DTSTART:20240101T000000
END:STANDARD
END:VTIMEZONE
BEGIN:VEVENT
DTSTART;VALUE=DATE:20250701
DTEND;VALUE=DATE:20250702
DTSTAMP:20260422T201306
CREATED:20250606T110333Z
LAST-MODIFIED:20250626T110606Z
UID:1687-1751328000-1751414399@aiwasalon.jp
SUMMARY:“地球をいやしまつる”日本民族の真の役割   癒しの本質に迫る（体術編）& JUNさんによるトークショー「未来の商売とは？天人方式とは？」
DESCRIPTION:  \n\n“地球をいやしまつる”日本民族の真の役割 \n癒しの本質に迫る　全3回の特別編開催決定！ \n「癒し」をテーマに、日本民族の役割と宇宙、地球とのつながりを探る講座。日本民族の役割が「地球の癒し」にあることをその起源から歴史、未来像までを学ぶ全３回講座の特別編　開催決定！ \n４／28（月）PART 1 「癒しの起源」５／26（月）PART 2 「人間社会における癒しの歴史と日本人の役割」6／30（月）PART 3 「未来における癒しの形」 \n\n7/1（火）番外編　「癒しのための体づくり」特別編！＆トークショー \n①11：00～　あいわ食堂\nワンコインランチ　玄米、味噌汁、漬物、納豆麹（500円） \n②13：00～14：30\nJUNさんによるトークショー「未来の商売とは？天人方式とは？」オンライン可 \n※見逃し配信あり！（配信期間は2週間） \n15：00～のボディワーク講座にご参加の方　\1\,000 \nZoom＆見逃し配信￥2\,000／会場参加　\2\,000 \n③15：00～17：00（会場参加のみ）\n地球を癒しまつるボディーワーク講座\n癒しまつる講座①～③に一度でもご参加の方（見逃し配信での視聴を含む）￥5\,000／ \n癒しまつる講座①～③に参加していない方　10\,000円\n20名限定 \n講師●JUN AMANTO \n場所●あいわサロン \nアクセス \nhttps://aiwasalon.jp/access/ \n★愛和道の会ご入会ご希望の方はこちら \n■オンライン参加の方へのZoom IDのご案内はイベントの2～3日前にメールで \nご案内させていただきます。 \n■録画配信はイベント終了後、動画の編集が完了し次第（一週間以内が目安）、 \nメールでURLをご案内します（配信期間は2週間） \n《お申込み・お問合せ先》\nあいわサロン\n電話：04-2942-3339\nサロン公式LINEアカウント:\nhttps://lin.ee/MfVajpL \n[mwform_formkey key=”1696″]
URL:https://aiwasalon.jp/event/260701/
LOCATION:入曽地域交流センター\, 狭山市大字南入曽428番地3\, 狭山市\, 埼玉県\, 350-1316\, Japan
CATEGORIES:ヒーリング
ATTACH;FMTTYPE=image/jpeg:https://aiwasalon.jp/wp-content/uploads/2025/04/1742530048248.jpg
ORGANIZER;CN="%E3%81%82%E3%81%84%E3%82%8F%E3%82%B5%E3%83%AD%E3%83%B3":MAILTO:aiwasalon33@gmail.com
END:VEVENT
BEGIN:VEVENT
DTSTART;VALUE=DATE:20250707
DTEND;VALUE=DATE:20250708
DTSTAMP:20260422T201306
CREATED:20250608T065702Z
LAST-MODIFIED:20250609T022112Z
UID:1705-1751846400-1751932799@aiwasalon.jp
SUMMARY:「7次元のエネルギー伝授」
DESCRIPTION:「7次元のエネルギー伝授」 \n令和7年7月7日、777が続く日。 \n7次元のエネルギー伝授をケビンが亡くなってから初開催します。\n7次元のエネルギー伝授は、元々コロナ過に、私たちそれぞれが光(7次元)のエネルギーを受け取る依り代になり、その方がいる場所(半径500ｍ)が浄化され「地球を救う」という意図で行っていました！\n2025年は様々な分野で変換期といわれ、天災や社会経済なども変化していくと言われています。 \nそして7次元のエネルギー伝授は、ケビン曰く「必要な時にしか降ろせない。なので定期的に行うものではなく、必要に応じて行う企画」と言われていました。最後に開催したのが、令和3年(2021)7月7日。4年の時を経て、今年開催されます！ \nケビンから受け取ったことのある方は、再受講でご参加いただけます。\n2025年をそして日本、地球を救うエネルギーを受け取ってください！ \n◇日時\n令和7年7月7日（月）\n20：00～22：00 \n◇参加形態\nオンライン \n◇参加費\n初参加　5\,500円\n再受講　3\,300円 \n◇参加資格\n会員で、ヒーラー養成セミナーレベルⅠを受講している方 \n《お申込み・お問合せ先》\nあいわサロン\n電話：04-2942-3339\nサロン公式LINEアカウント:\nhttps://lin.ee/MfVajpL \n[mwform_formkey key=”1708″]
URL:https://aiwasalon.jp/event/250707/
CATEGORIES:ヒーリング
ATTACH;FMTTYPE=image/jpeg:https://aiwasalon.jp/wp-content/uploads/2025/06/2B3F469E-ACDD-4F2C-AD66-13A5071575B1.jpeg
ORGANIZER;CN="%E3%81%82%E3%81%84%E3%82%8F%E3%82%B5%E3%83%AD%E3%83%B3":MAILTO:aiwasalon33@gmail.com
END:VEVENT
BEGIN:VEVENT
DTSTART;VALUE=DATE:20250714
DTEND;VALUE=DATE:20250715
DTSTAMP:20260422T201306
CREATED:20250609T043335Z
LAST-MODIFIED:20250609T044220Z
UID:1724-1752451200-1752537599@aiwasalon.jp
SUMMARY:【東京】中西功　お話会&ヒーリング
DESCRIPTION:【東京】中西功　お話会&ヒーリング \n中西功の今伝えたい話＆瞑想＆ヒーリング \n\nなかにしいさお◎一般社団法人愛和道協会代表理事。1980年生まれ。愛和道®JOYヒーリングの創設者である亡き父、ケビンこと中西研二と共に18年間にわたり、国内外での各種セミナーを開催する。2020年からは、自らもセミナー講師として活動開始。4児の子育てしながら己育て中\n\n7月14日（月） \n時間：13:00～14:00　お話会\n14：15〜中西功によるヒーリング※ご予約順 \nお一人様約15分※当日は受けられない方にはヒーリング券をプレゼント！（一ヶ月間有効） \n★会場参加限定特典：株式会社いやしの村代表取締役　孫崎さんからプレゼントあり！ \n会場：量子波動サロン東京\n東京都品川区西五反田2-15-13　ニューハイツ西五反田1103 \n参加費：【会場参加（個別ヒーリング付）】愛和道の会会員3\,850円　一般5\,500円\n【ZOOM参加（一斉遠隔ヒーリング付・見逃し配信あり）】愛和道の会会員3\,000円　一般4\,000円 \n※非会員の方で、当日愛和道の会にご入会の場合は、参加費無料\n（愛和道の会　入会金&年会費→5\,000円1年間有効\n(カード払いで自動更新を選択の場合4\,500円)） \n★会場参加の方★中西功の個別ヒーリング付（当日受けられない方には、一ヶ月有効のヒーリング券をプレゼントさせていただきます）\nヒーリング券のご使用方法\n①後日ヒーリング券の利用（10～15分）五反田または所沢のサロンで\n②後日ヒーリング券を割引券としてご利用（30分のヒーリング料金　会員4\,400円　/非会員5\,500円の半額券としてご利用いただけます）五反田または所沢のサロンで \n★ZOOM参加（見逃し配信）の方★お話会の最後に一斉遠隔ヒーリングをさせていただきます \nあいわサロン公式LINEアカウントのご登録はこちらから \n※見逃し配信について\nイベント終了から一週間をめどとしてメールで\n送らせていただく予定です（配信期間は２週間です） \n《お申込み・お問合せ先》\nあいわサロン\n電話：04-2942-3339\nサロン公式LINEアカウント:\nhttps://lin.ee/MfVajpL \n[mwform_formkey key=”1726″]
URL:https://aiwasalon.jp/event/250714/
LOCATION:量子波動サロンTOKYO\, 西五反田2-15-13　ニューハイツ西五反田1103\, 品川区\, 東京都\, 141-0031\, 日本
CATEGORIES:ヒーリング
ATTACH;FMTTYPE=image/png:https://aiwasalon.jp/wp-content/uploads/2025/06/中西功お話会＆ヒーリングのコピー-Instagramの投稿のコピー-3.png
ORGANIZER;CN="%E3%81%82%E3%81%84%E3%82%8F%E3%82%B5%E3%83%AD%E3%83%B3":MAILTO:aiwasalon33@gmail.com
END:VEVENT
BEGIN:VEVENT
DTSTART;TZID=Asia/Tokyo:20250725T203000
DTEND;TZID=Asia/Tokyo:20250725T210000
DTSTAMP:20260422T201306
CREATED:20250721T055732Z
LAST-MODIFIED:20250721T055732Z
UID:1961-1753475400-1753477200@aiwasalon.jp
SUMMARY:時間をはずした日【無料！特別放送】中西功のZoom in 夜《夜20：30～》
DESCRIPTION:中西功の気づきと癒しの時間～『Zoom in ASA』\nの放送が月に一度、特別に\n夜の時間帯で30分間特別バージョンで放送をさせていただいております。 \n今回は「時間をはずした日」の放送です！ \nどうぞお楽しみに～！！ \n※ご予約は不要です。\n※五分前よりオープン予定となっておりますので、\nお時間までに下記のZoom　IDでお入りくださいませ。 \n■「功のZOOM IN 夜」20：30～21:00 \nZoomミーティング情報\nhttps://us02web.zoom.us/j/86858211419?pwd=bytuc3pvR2JWTVpNOUxqNnpveEtydz09 \nミーティングID: 868 5821 1419\nパスコード: 430978 \n※平日朝6:15～行っているZoom in ASAと同じZoom idです。\nよろしくお願いいたします。
URL:https://aiwasalon.jp/event/250725/
CATEGORIES:ヒーリング
ATTACH;FMTTYPE=image/png:https://aiwasalon.jp/wp-content/uploads/2025/07/Footer-6.png
ORGANIZER;CN="%E3%81%82%E3%81%84%E3%82%8F%E3%82%B5%E3%83%AD%E3%83%B3":MAILTO:aiwasalon33@gmail.com
END:VEVENT
END:VCALENDAR