BEGIN:VCALENDAR
VERSION:2.0
PRODID:-//あいわサロン - ECPv6.15.13//NONSGML v1.0//EN
CALSCALE:GREGORIAN
METHOD:PUBLISH
X-ORIGINAL-URL:https://aiwasalon.jp
X-WR-CALDESC:あいわサロン のイベント
REFRESH-INTERVAL;VALUE=DURATION:PT1H
X-Robots-Tag:noindex
X-PUBLISHED-TTL:PT1H
BEGIN:VTIMEZONE
TZID:Asia/Tokyo
BEGIN:STANDARD
TZOFFSETFROM:+0900
TZOFFSETTO:+0900
TZNAME:JST
DTSTART:20240101T000000
END:STANDARD
END:VTIMEZONE
BEGIN:VEVENT
DTSTART;VALUE=DATE:20250512
DTEND;VALUE=DATE:20250513
DTSTAMP:20260422T232557
CREATED:20250413T134036Z
LAST-MODIFIED:20250507T101918Z
UID:1477-1747008000-1747094399@aiwasalon.jp
SUMMARY:【東京】中西功　お話会&ヒーリング
DESCRIPTION:【東京】中西功　お話会&ヒーリング \n中西功の今伝えたい話＆瞑想＆ヒーリング \n\nなかにしいさお◎一般社団法人愛和道協会代表理事。1980年生まれ。愛和道®JOYヒーリングの創設者である亡き父、ケビンこと中西研二と共に18年間にわたり、国内外での各種セミナーを開催する。2020年からは、自らもセミナー講師として活動開始。4児の子育てしながら己育て中\n\n5月12日（月） \n時間：13:00～14:30　お話会\n14：45〜中西功によるヒーリング※ご予約順 \nお一人様約15分※当日は受けられない方にはヒーリング券をプレゼント！（一ヶ月間有効） \n★会場参加限定特典：株式会社いやしの村代表取締役　孫崎さんからプレゼントあり！ \n会場：量子波動サロン東京\n東京都品川区西五反田2-15-13　ニューハイツ西五反田1103 \n参加費：【会場参加（個別ヒーリング付）】愛和道の会会員3\,850円　一般5\,500円\n【ZOOM参加（一斉遠隔ヒーリング付・見逃し配信あり）】愛和道の会会員3\,000円　一般4\,000円 \n※当日愛和道の会にご入会の場合は、参加費無料\n（愛和道の会　入会金&年会費→5\,000円1年間有効\n(カード払いで自動更新を選択の場合4\,500円)） \n★会場参加の方★中西功の個別ヒーリング付（当日受けられない方には、一ヶ月有効のヒーリング券をプレゼントさせていただきます）\nヒーリング券のご使用方法\n①後日ヒーリング券の利用（10～15分）五反田または所沢のサロンで\n②後日ヒーリング券を割引券としてご利用（30分のヒーリング料金　会員4\,400円　/非会員5\,500円の半額券としてご利用いただけます）五反田または所沢のサロンで \n★ZOOM参加（見逃し配信）の方★お話会の最後に一斉遠隔ヒーリングをさせていただきます \nあいわサロン公式LINEアカウントのご登録はこちらから \n※見逃し配信について\nイベント終了から一週間をめどとしてメールで\n送らせていただく予定です（配信期間は２週間です） \n※次回以降の予定・・・6/9（月） \n《お申込み・お問合せ先》\nあいわサロン\n電話：04-2942-3339\nサロン公式LINEアカウント:\nhttps://lin.ee/MfVajpL \n[mwform_formkey key=”1532″]
URL:https://aiwasalon.jp/event/250512/
LOCATION:量子波動サロンTOKYO\, 西五反田2-15-13　ニューハイツ西五反田1103\, 品川区\, 東京都\, 141-0031\, 日本
CATEGORIES:ヒーリング
ATTACH;FMTTYPE=image/png:https://aiwasalon.jp/wp-content/uploads/2025/04/中西功お話会＆ヒーリングのコピー-Instagramの投稿のコピー.png
ORGANIZER;CN="%E3%81%82%E3%81%84%E3%82%8F%E3%82%B5%E3%83%AD%E3%83%B3":MAILTO:aiwasalon33@gmail.com
END:VEVENT
BEGIN:VEVENT
DTSTART;TZID=Asia/Tokyo:20250524T203000
DTEND;TZID=Asia/Tokyo:20250524T210000
DTSTAMP:20260422T232557
CREATED:20250503T104935Z
LAST-MODIFIED:20250503T105234Z
UID:1578-1748118600-1748120400@aiwasalon.jp
SUMMARY:【無料！特別放送】中西功のZoom in ASA 700回記念放送《夜20：30～》
DESCRIPTION:中西功の気づきと癒しの時間～『Zoom in ASA』\nの放送が月に一度、特別に\n夜の時間帯で30分間特別バージョンで放送をさせていただいておりますが、 \n今回はなんと・・・700回記念放送です！！ \nどうぞお楽しみに～！！ \n※ご予約は不要です。\n※五分前よりオープン予定となっておりますので、\nお時間までに下記のZoom　IDでお入りくださいませ。 \n■「功のZOOM IN 夜」20：30～21:00 \nZoomミーティング情報\nhttps://us02web.zoom.us/j/86858211419?pwd=bytuc3pvR2JWTVpNOUxqNnpveEtydz09 \nミーティングID: 868 5821 1419\nパスコード: 430978 \n※平日朝6:15～行っているZoom in ASAと同じZoom idです。\nよろしくお願いいたします。
URL:https://aiwasalon.jp/event/250524/
CATEGORIES:ヒーリング
ATTACH;FMTTYPE=image/png:https://aiwasalon.jp/wp-content/uploads/2025/05/Footer-7.png
ORGANIZER;CN="%E3%81%82%E3%81%84%E3%82%8F%E3%82%B5%E3%83%AD%E3%83%B3":MAILTO:aiwasalon33@gmail.com
END:VEVENT
BEGIN:VEVENT
DTSTART;VALUE=DATE:20250526
DTEND;VALUE=DATE:20250527
DTSTAMP:20260422T232557
CREATED:20250503T065533Z
LAST-MODIFIED:20250702T121651Z
UID:1560-1748217600-1748303999@aiwasalon.jp
SUMMARY:【見逃し配信お申込受付中】第2回　“地球をいやしまつる”日本民族の真の役割   癒しの本質に迫る（全3回）
DESCRIPTION:“地球をいやしまつる”日本民族の真の役割 \n癒しの本質に迫る　全3回 \n「癒し」をテーマに、日本民族の役割と宇宙、地球とのつながりを探る講座。日本民族の役割が「地球の癒し」にあることをその起源から歴史、未来像までを学ぶ全３回講座。 \n４／28（月）PART 1 「癒しの起源」 \n人類の起源～地球に入植した植物型宇宙人／自分を食べさせ続けて、生命全体を進化させた植物／植物から動物、そして人間へ～「ありがとう、いただきます」が生まれるまで／縄文精神の大元とは／パラレルシフトといやし／植物担当の女神コノハナサクヤヒメ \n５／26（月）PART 2 「人間社会における癒しの歴史と日本人の役割」 \n元来、「癒し」という言葉はなかった／先住民の癒し／「きみおもい」～なんのために癒すのか／祭祀の本質／「地球をいやしまつる」日本民族の役割 \n6／30（月）PART 3 「未来における癒しの形」 \nパラレルワールドと次元のはざま／“祈り”と“行動”と“利他”の一致／進化を可能にする「生命エネルギー(徳)」／カギは植物。植物は悟っている／植物と人間の統合 \n7/1（火）番外編　「癒しのための体づくり」（オンラインなし） \n講師●JUN AMANTO \n場所●東京・雑司ヶ谷（鬼子母神）付近およびオンライン \n＊場所の詳細は決定し次第、お知らせします \n時間●18：00～20：00予定 \n参加費●各回　愛和道の会会員or EART LIFE LABO会員5\,000円　一般7\,000円（現地参加、オンラインとも） \n※３回セット（※１回目は終了しており、見逃し配信をご覧いただきます） \n会員12\,000円　一般18\,000円 \n★愛和道の会ご入会ご希望の方はこちら \n■オンライン参加の方へのZoom IDのご案内はイベントの2～3日前にメールで \nご案内させていただきます。 \n■録画配信はイベント終了後、動画の編集が完了し次第（一週間以内が目安）、 \nメールでURLをご案内します（配信期間は2週間） \n《お申込み・お問合せ先》\nあいわサロン\n電話：04-2942-3339\nサロン公式LINEアカウント:\nhttps://lin.ee/MfVajpL \n[mwform_formkey key=”1853″]
URL:https://aiwasalon.jp/event/250526/
LOCATION:量子波動サロンTOKYO\, 西五反田2-15-13　ニューハイツ西五反田1103\, 品川区\, 東京都\, 141-0031\, 日本
CATEGORIES:ヒーリング
ATTACH;FMTTYPE=image/jpeg:https://aiwasalon.jp/wp-content/uploads/2025/04/1742530048248.jpg
ORGANIZER;CN="%E3%81%82%E3%81%84%E3%82%8F%E3%82%B5%E3%83%AD%E3%83%B3":MAILTO:aiwasalon33@gmail.com
END:VEVENT
END:VCALENDAR