BEGIN:VCALENDAR
VERSION:2.0
PRODID:-//あいわサロン - ECPv6.15.13//NONSGML v1.0//EN
CALSCALE:GREGORIAN
METHOD:PUBLISH
X-ORIGINAL-URL:https://aiwasalon.jp
X-WR-CALDESC:あいわサロン のイベント
REFRESH-INTERVAL;VALUE=DURATION:PT1H
X-Robots-Tag:noindex
X-PUBLISHED-TTL:PT1H
BEGIN:VTIMEZONE
TZID:Asia/Tokyo
BEGIN:STANDARD
TZOFFSETFROM:+0900
TZOFFSETTO:+0900
TZNAME:JST
DTSTART:20240101T000000
END:STANDARD
END:VTIMEZONE
BEGIN:VEVENT
DTSTART;VALUE=DATE:20250409
DTEND;VALUE=DATE:20250410
DTSTAMP:20260423T005540
CREATED:20250210T085243Z
LAST-MODIFIED:20250321T102737Z
UID:1170-1744156800-1744243199@aiwasalon.jp
SUMMARY:第一回　愛和道講座【『愛和道』に込められた意味とは】
DESCRIPTION:新学期のスタート4月から、新たな講座がスタートします！ \nその名も【愛和道講座】 \n創始者ケビンこと中西研二の教え・動画を使いながら、\n中西功が解説していく5回シリーズのオンラインの講座になります。\nJOYヒーリングを学んだ方も初めての方もケビンが愛和道で伝えたかった\n人生を楽しくする方法をお伝えします！ \n第一回　4/9(水)\n愛和道に込められた意味とは\n「今を生きることの大切さ」 \n第二回　6/11(水)\n相手を癒す前に、自分自身の心と体を整える \n第三回　8/6(水)\n先祖解放はなぜ必要なのか？\nケビンによる先祖解放のワーク \n第四回　10/8(水)\n人との関係を愛で満たす方法 \n第五回　12/10(水)\nすべての存在と「愛」と「調和」でつながる\nこれまでの学びの総まとめ \n各回　20：30～21：30予定 \n参加費：オンライン参加　会員3\,300円／非会員4\,400円\nZOOM配信※見逃し配信付 \n5回セット\n会員　　15\,000円\n非会員　20\,000円 \n★愛和道の会ご入会ご希望の方はこちら \n※見逃し配信について\nイベント終了から一週間をめどとしてメールで\n送らせていただく予定です（配信期間は２週間です） \n  \n中西功プロフィール \n1980年東京生まれ。父であるヒーリング界のレジェンド、中西研二が行うヒーリングで奇跡が起こるのを目の当たりにし、以降、22年に渡りヒーラーとしての修行を積み、人々を癒しへと導いてきた。父やインドの聖者からも「内側のバランスが取れている」「本物のスピリチュアリズムを体現している」と称されるほど、穏やかなバイブレーションは傍にいるだけで癒されると評判。愛和道®JOYヒーリングの神髄「大和ワンネス」を世界に広める活動をしている。 \n  \n  \n《お申込み・お問合せ先》\nあいわサロン\n電話：04-2942-3339\nサロン公式LINEアカウント:\nhttps://lin.ee/MfVajpL \n[mwform_formkey key=”1174″]
URL:https://aiwasalon.jp/event/250409/
CATEGORIES:ヒーリング
ATTACH;FMTTYPE=image/png:https://aiwasalon.jp/wp-content/uploads/2025/02/愛和道講座.png
ORGANIZER;CN="%E3%81%82%E3%81%84%E3%82%8F%E3%82%B5%E3%83%AD%E3%83%B3":MAILTO:aiwasalon33@gmail.com
END:VEVENT
BEGIN:VEVENT
DTSTART;VALUE=DATE:20250413
DTEND;VALUE=DATE:20250414
DTSTAMP:20260423T005540
CREATED:20250312T025154Z
LAST-MODIFIED:20250312T025445Z
UID:1305-1744502400-1744588799@aiwasalon.jp
SUMMARY:【心と体のリトリート　潜在意識にアクセスする数霊の法則】
DESCRIPTION:イベント詳細＆お申し込みはこちら \n 
URL:https://aiwasalon.jp/event/240413/
CATEGORIES:ヒーリング
ORGANIZER;CN="%E3%81%82%E3%81%84%E3%82%8F%E3%82%B5%E3%83%AD%E3%83%B3":MAILTO:aiwasalon33@gmail.com
END:VEVENT
BEGIN:VEVENT
DTSTART;VALUE=DATE:20250414
DTEND;VALUE=DATE:20250415
DTSTAMP:20260423T005540
CREATED:20250321T072335Z
LAST-MODIFIED:20250321T095043Z
UID:1337-1744588800-1744675199@aiwasalon.jp
SUMMARY:【東京】中西功　お話会&ヒーリング
DESCRIPTION:【東京】中西功　お話会&ヒーリング \n中西功の今伝えたい話＆瞑想＆ヒーリング \n\nなかにしいさお◎一般社団法人愛和道協会代表理事。1980年生まれ。愛和道®JOYヒーリングの創設者である亡き父、ケビンこと中西研二と共に18年間にわたり、国内外での各種セミナーを開催する。2020年からは、自らもセミナー講師として活動開始。4児の子育てしながら己育て中\n\n４月１４日（月） \n時間：13:00～14:30　お話会\n14：45〜中西功によるヒーリング※ご予約順 \nお一人様約15分※当日は受けられない方にはヒーリング券をプレゼント！（一ヶ月間有効） \n★会場参加限定特典：株式会社いやしの村代表取締役　孫崎さんからプレゼントあり！ \n会場：量子波動サロン東京\n東京都品川区西五反田2-15-13　ニューハイツ西五反田1103 \n参加費（会場参加）：愛和道の会会員3\,850円　一般5\,500円\n※当日愛和道の会にご入会の場合は、参加費無料\n（愛和道の会　入会金&年会費→5\,000円1年間有効\n(カード払いで自動更新を選択の場合4\,500円)） \n●ZOOM配信(お話会のみ)：無料 \n※会場参加の方は中西功の個別ヒーリング付（当日受けられない方には、一ヶ月有効のヒーリング券をプレゼントさせていただきます）\nヒーリング券のご使用方法\n①後日ヒーリング券の利用（10～15分）五反田または所沢のサロンで\n②後日ヒーリング券を割引券としてご利用（30分のヒーリング料金　会員4\,400円　/非会員5\,500円の半額券としてご利用いただけます）五反田または所沢のサロンで \n※ZOOM IDについて※お時間にお入りください。\nトピック: 4/14（月）中西功　お話会＆瞑想＆ヒーリング\n時刻: 2025年4月14日 01:00 PM 大阪、札幌、東京\nZoom ミーティングに参加する\nhttps://us02web.zoom.us/j/82619425055?pwd=0AfLchDiOuNLKNfOwnn2iyE6FnFmoP.1 \nミーティング ID: 826 1942 5055\nパスコード: 0414 \n※見逃し配信について\nイベント終了から一週間をめどとしてメールで\n送らせていただく予定です（配信期間は２週間です） \n※次回以降の予定・・・5/12（月）6/9（月） \n《お申込み・お問合せ先》\nあいわサロン\n電話：04-2942-3339\nサロン公式LINEアカウント:\nhttps://lin.ee/MfVajpL \n[mwform_formkey key=”1341″]
URL:https://aiwasalon.jp/event/250414/
LOCATION:量子波動サロンTOKYO\, 西五反田2-15-13　ニューハイツ西五反田1103\, 品川区\, 東京都\, 141-0031\, 日本
CATEGORIES:ヒーリング
ATTACH;FMTTYPE=image/png:https://aiwasalon.jp/wp-content/uploads/2025/03/中西功お話会＆ヒーリングのコピー-Instagramの投稿.png
ORGANIZER;CN="%E3%81%82%E3%81%84%E3%82%8F%E3%82%B5%E3%83%AD%E3%83%B3":MAILTO:aiwasalon33@gmail.com
END:VEVENT
BEGIN:VEVENT
DTSTART;VALUE=DATE:20250428
DTEND;VALUE=DATE:20250429
DTSTAMP:20260423T005540
CREATED:20250425T020118Z
LAST-MODIFIED:20250702T121748Z
UID:1495-1745798400-1745884799@aiwasalon.jp
SUMMARY:【見逃し配信お申込受付中】第1回 “地球をいやしまつる”日本民族の真の役割   癒しの本質に迫る　全3回
DESCRIPTION:“地球をいやしまつる”日本民族の真の役割 \n癒しの本質に迫る　全3回 \n「癒し」をテーマに、日本民族の役割と宇宙、地球とのつながりを探る講座。日本民族の役割が「地球の癒し」にあることをその起源から歴史、未来像までを学ぶ全３回講座。 \n４／28（月）PART 1 「癒しの起源」 \n人類の起源～地球に入植した植物型宇宙人／自分を食べさせ続けて、生命全体を進化させた植物／植物から動物、そして人間へ～「ありがとう、いただきます」が生まれるまで／縄文精神の大元とは／パラレルシフトといやし／植物担当の女神コノハナサクヤヒメ \n５／26（月）PART 2 「人間社会における癒しの歴史と日本人の役割」 \n元来、「癒し」という言葉はなかった／先住民の癒し／「きみおもい」～なんのために癒すのか／祭祀の本質／「地球をいやしまつる」日本民族の役割 \n6／30（月）PART 3 「未来における癒しの形」 \nパラレルワールドと次元のはざま／“祈り”と“行動”と“利他”の一致／進化を可能にする「生命エネルギー(徳)」／カギは植物。植物は悟っている／植物と人間の統合 \n（日程未定　6月or７月） \n番外編　「癒しのための体づくり」（オンラインなし） \n講師●JUN AMANTO \n場所●東京・雑司ヶ谷（鬼子母神）付近およびオンライン \n＊場所の詳細はお申込みの際にお知らせします \n時間●18：00～20：00予定 \n参加費●３回セット　愛和道の会会員or EART LIFE LABO会員12\,000円　一般18\,000円／各回　会員5\,000円　一般7\,000円（現地参加、オンラインとも） \n★愛和道の会ご入会ご希望の方はこちら \n■オンライン参加の方へのZoom IDのご案内はイベントの2～3日前にメールで \nご案内させていただきます。 \n■録画配信はイベント終了後、動画の編集が完了し次第（一週間以内が目安）、 \nメールでURLをご案内します（配信期間は2週間） \n《お申込み・お問合せ先》\nあいわサロン\n電話：04-2942-3339\nサロン公式LINEアカウント:\nhttps://lin.ee/MfVajpL \n[mwform_formkey key=”1853″]
URL:https://aiwasalon.jp/event/250428/
LOCATION:量子波動サロンTOKYO\, 西五反田2-15-13　ニューハイツ西五反田1103\, 品川区\, 東京都\, 141-0031\, 日本
CATEGORIES:ヒーリング
ATTACH;FMTTYPE=image/jpeg:https://aiwasalon.jp/wp-content/uploads/2025/04/1742530048248.jpg
ORGANIZER;CN="%E3%81%82%E3%81%84%E3%82%8F%E3%82%B5%E3%83%AD%E3%83%B3":MAILTO:aiwasalon33@gmail.com
END:VEVENT
BEGIN:VEVENT
DTSTART;VALUE=DATE:20250429
DTEND;VALUE=DATE:20250430
DTSTAMP:20260423T005540
CREATED:20250328T065442Z
LAST-MODIFIED:20250414T111218Z
UID:1379-1745884800-1745971199@aiwasalon.jp
SUMMARY:量子波動サロンTOKYO Presents✨「わたし」と繋がるディクシャ会」/中西功ヒーリング
DESCRIPTION:量子波動サロンTOKYO Presents✨ \n「わたし」と繋がるディクシャ会 / 中西功ヒーリング  \n今回ディクシャを行う4名は、本来の使命を思い出させてくれるといわれている空海の秘儀「みつのたま」を3/29の新月🌑に授かってきました！\nそしてこの1ヶ月育ててきたエネルギーを集結してお届けします！\n「みつのたま」を持つものが現れることは、世界中の龍族の悲願だったと言われています。\n青龍、赤龍、白龍のエネルギーを使って私たちのネガティブな感情を燃やして、私たちの本当の使命を思い出させてくれると言われています🐉\n私たち日本人は金龍族で、世界中を平和に導く役割があると言われています👆\nそれは私たち自身が自分の魂から喜ぶことをワクワクしながら生きていくこと😆\n1人が目覚めることで10万人に影響が出るというのが、ワンネスの教えです。\nあなたも世界を変える一人として体験してみませんか？ \n当日は、参加者の全員の祈りのエネルギーで【わたしとつながる】ことをよりパワフルにサポートしてくれる\n✨奇跡の波動水✨\n✨超奇跡の塩✨ \n作り上げてお持ち帰りしていただきます！\n飲んで身体の中を清め、持ち歩いたり撒くことで場を清めてくれる最高のグッズになります！ \nゴールデンウィークのスタートを最高の形でスタートさせましょう‼️ \nワンネスとの出会い: https://youtu.be/uAC7kufUtK4?si=yyVWoxFARRi8Cf7h \n◆日時：2025年4月29日（火祝） \n会場／量子波動サロンTOKYO (五反田駅徒歩５分） \n【ディクシャ会】 \n開場10:15\n時間：10:30〜12:30　限定15名 \n参加費: 3\,900円(奇跡の塩＋波動水1本付） \n【ヒーリング】料金　一枠30分　5\,500円 \n①13：00～13：30\n②13：40～14：10\n③14：20～14：50\n④15：00～15：30\n⑤15：40～16：10\n⑥16：20～16：50\n⑦17：00～17：30\n⑧17：40～18：10 \n《企画》量子波動サロンTOKYO \n《お申込み・お問合せ先》\nあいわサロン\n電話：04-2942-3339\nサロン公式LINEアカウント:\nhttps://lin.ee/MfVajpL \n[mwform_formkey key=”1384″]
URL:https://aiwasalon.jp/event/250429/
CATEGORIES:ヒーリング
ATTACH;FMTTYPE=image/jpeg:https://aiwasalon.jp/wp-content/uploads/2025/03/S__14630950.jpg
ORGANIZER;CN="%E3%81%82%E3%81%84%E3%82%8F%E3%82%B5%E3%83%AD%E3%83%B3":MAILTO:aiwasalon33@gmail.com
END:VEVENT
END:VCALENDAR