BEGIN:VCALENDAR
VERSION:2.0
PRODID:-//あいわサロン - ECPv6.15.13//NONSGML v1.0//EN
CALSCALE:GREGORIAN
METHOD:PUBLISH
X-WR-CALNAME:あいわサロン
X-ORIGINAL-URL:https://aiwasalon.jp
X-WR-CALDESC:あいわサロン のイベント
REFRESH-INTERVAL;VALUE=DURATION:PT1H
X-Robots-Tag:noindex
X-PUBLISHED-TTL:PT1H
BEGIN:VTIMEZONE
TZID:Asia/Tokyo
BEGIN:STANDARD
TZOFFSETFROM:+0900
TZOFFSETTO:+0900
TZNAME:JST
DTSTART:20240101T000000
END:STANDARD
END:VTIMEZONE
BEGIN:VEVENT
DTSTART;VALUE=DATE:20250301
DTEND;VALUE=DATE:20250302
DTSTAMP:20260423T022742
CREATED:20250205T031932Z
LAST-MODIFIED:20250228T034154Z
UID:1150-1740787200-1740873599@aiwasalon.jp
SUMMARY:量子波動サロンTOKYO Presents✨「本気で宇宙と繋がるディクシャ会」/中西功ヒーリング
DESCRIPTION:量子波動サロンTOKYO Presents✨ \n「本気で宇宙と繋がるディクシャ会」/ 中西功ヒーリング \n令和の時代。私たちは、物質文明の極みと言っていいほどに便利なものを使っていきています。\nスマートフォン、パソコン、自動車、電子レンジ。\n生きていく上で様々なものに満たされていますが、それでもどこか満たされない想いはありませんか？\nそしてどこかに不安心配恐怖のマイナスの感情を持っていきています。\nその満たされない気持ちをどうやって解決したいいのか？の答えの一つに『ワンネスディクシャ』という手法があります。\nディクシャとはインドの秘法で、様々な聖者がエネルギー伝授を行う時に使われてきた言葉・手法です。\n当日は、ワンネスムーブメントを日本に大きく広めるきっかけを作ったヒーリング界のレジェンド中西研二の元でサポートをしていた中西功が、ケビン流のワンネスの教えをお伝えします！\n当日は、功以外にもワンネスの教えを学んだスタッフが一緒にディクシャをさせていただきます。 \n①大宇宙の意識・創造主とのつながりがある生き方とは？\n②悟りとは？ディクシャとは？\n③ゼロの教え \nワンネスとの出会いhttps://youtu.be/uAC7kufUtK4?si=yyVWoxFARRi8Cf7h \n◆日時：2025年3月1日（土） \n会場／五反田周辺※量子波動サロンTOKYOではありません \n【ディクシャ会】 \n開場10:15\n時間：10:30〜12:30　限定33名 \n参加費: 3\,300円 \n【ヒーリング】料金　一枠30分　5\,500円 \n①13：00～13：30\n②13：40～14：10\n③14：20～14：50\n④15：00～15：30\n⑤15：40～16：10\n⑥16：20～16：50\n⑦17：00～17：30\n⑧17：40～18：10 \n《企画》量子波動サロンTOKYO \n《お申込み・お問合せ先》\nあいわサロン\n電話：04-2942-3339\nサロン公式LINEアカウント:\nhttps://lin.ee/MfVajpL \n[mwform_formkey key=”1152″]
URL:https://aiwasalon.jp/event/250301/
CATEGORIES:ヒーリング
ATTACH;FMTTYPE=image/jpeg:https://aiwasalon.jp/wp-content/uploads/2025/02/B55A96BC-271B-4F0D-A5E5-8B620D59DF3E.jpeg
ORGANIZER;CN="%E3%81%82%E3%81%84%E3%82%8F%E3%82%B5%E3%83%AD%E3%83%B3":MAILTO:aiwasalon33@gmail.com
END:VEVENT
BEGIN:VEVENT
DTSTART;TZID=Asia/Tokyo:20250311T203000
DTEND;TZID=Asia/Tokyo:20250311T210000
DTSTAMP:20260423T022742
CREATED:20250307T080126Z
LAST-MODIFIED:20250307T080321Z
UID:1287-1741725000-1741726800@aiwasalon.jp
SUMMARY:【無料！特別放送】中西功のZoom in 夜《夜20:30～》
DESCRIPTION:中西功の気づきと癒しの時間～『Zoom in Asa』\nの放送が月に一度、特別に\n夜の時間帯で30分間特別バージョンで放送をさせていただいております。 \nZOOM IN 夜をどうぞお楽しみに～！！ \n※ご予約は不要です。\n※五分前よりオープン予定となっておりますので、\nお時間までに下記のZoom　IDでお入りくださいませ。 \n■「功のZOOM IN 夜」3/11(火）20：30～21：00 \nZoomミーティング情報\nhttps://us02web.zoom.us/j/86858211419?pwd=bytuc3pvR2JWTVpNOUxqNnpveEtydz09 \nミーティングID: 868 5821 1419\nパスコード: 430978 \n※平日6：15～行っているZoom in asaと同じZoom idです。\nよろしくお願いいたします。 \nZoom in asaは１５分間の旬のトーク＆瞑想タイム♪ \n一日の心地いい始まりの時間☆彡　ぜひこちらもご参加ください。
URL:https://aiwasalon.jp/event/250311/
CATEGORIES:ヒーリング
ATTACH;FMTTYPE=image/png:https://aiwasalon.jp/wp-content/uploads/2025/03/0311.png
ORGANIZER;CN="%E3%81%82%E3%81%84%E3%82%8F%E3%82%B5%E3%83%AD%E3%83%B3":MAILTO:aiwasalon33@gmail.com
END:VEVENT
BEGIN:VEVENT
DTSTART;VALUE=DATE:20250329
DTEND;VALUE=DATE:20250330
DTSTAMP:20260423T022742
CREATED:20250129T084644Z
LAST-MODIFIED:20250309T012925Z
UID:1136-1743206400-1743292799@aiwasalon.jp
SUMMARY:【金龍と宝珠と新たな星・特別編】空海の秘儀「みつのたま」を授かり「あらたな星」の一員になる
DESCRIPTION:【金龍と宝珠と新たな星・特別編】\n空海の秘儀「みつのたま」を授かり「あらたな星」の一員になる \n講師：ギンザベルエトワール　代表取締役社長 岡本敬人氏＆明子さん \n日時：3月29日(土)12:30受付　13:00～15:30予定 \n会場：銀座ベルエトワール　5階　ディヴァインゲートホール\nアクセス：住所　東京都中央区銀座7-10-5\nJR新橋駅銀座口より徒歩7分\n東京メトロ銀座線＆丸ノ内線・銀座駅A3出口より徒歩5分\n詳しいアクセスはこちら \n参加費：愛和道の会会員　会場  5\,500円／zoom3\,300円\n非会員  会場＆zoom7\,700円 \n愛和道の会ご入会はこちら \n※Zoom参加は見逃し配信あり \n※見逃し配信について\nイベント終了から一週間をめどとしてメールで\n送らせていただく予定です（配信期間は２週間です） \n《お申込み・お問合せ先》\nあいわサロン\n電話：04-2942-3339\nサロン公式LINEアカウント:\nhttps://lin.ee/MfVajpL \n[mwform_formkey key=”1195″]
URL:https://aiwasalon.jp/event/240329/
LOCATION:銀座ベルエトワール\, 銀座7-10-5\, 中央区\, 東京都
CATEGORIES:ヒーリング
ATTACH;FMTTYPE=image/png:https://aiwasalon.jp/wp-content/uploads/2025/01/金龍と宝珠と新たな星・特別編のコピー-Instagramの投稿.png
ORGANIZER;CN="%E3%81%82%E3%81%84%E3%82%8F%E3%82%B5%E3%83%AD%E3%83%B3":MAILTO:aiwasalon33@gmail.com
END:VEVENT
END:VCALENDAR